BEGIN:VCALENDAR
VERSION:2.0
PRODID:-//GesamtSchule Quelle - ECPv6.15.20//NONSGML v1.0//EN
CALSCALE:GREGORIAN
METHOD:PUBLISH
X-ORIGINAL-URL:https://gesamtschule-quelle.de
X-WR-CALDESC:Veranstaltungen für GesamtSchule Quelle
REFRESH-INTERVAL;VALUE=DURATION:PT1H
X-Robots-Tag:noindex
X-PUBLISHED-TTL:PT1H
BEGIN:VTIMEZONE
TZID:Europe/Berlin
BEGIN:DAYLIGHT
TZOFFSETFROM:+0100
TZOFFSETTO:+0200
TZNAME:CEST
DTSTART:20190331T010000
END:DAYLIGHT
BEGIN:STANDARD
TZOFFSETFROM:+0200
TZOFFSETTO:+0100
TZNAME:CET
DTSTART:20191027T010000
END:STANDARD
BEGIN:DAYLIGHT
TZOFFSETFROM:+0100
TZOFFSETTO:+0200
TZNAME:CEST
DTSTART:20200329T010000
END:DAYLIGHT
BEGIN:STANDARD
TZOFFSETFROM:+0200
TZOFFSETTO:+0100
TZNAME:CET
DTSTART:20201025T010000
END:STANDARD
BEGIN:DAYLIGHT
TZOFFSETFROM:+0100
TZOFFSETTO:+0200
TZNAME:CEST
DTSTART:20210328T010000
END:DAYLIGHT
BEGIN:STANDARD
TZOFFSETFROM:+0200
TZOFFSETTO:+0100
TZNAME:CET
DTSTART:20211031T010000
END:STANDARD
END:VTIMEZONE
BEGIN:VEVENT
DTSTART;TZID=Europe/Berlin:20201026T080000
DTEND;TZID=Europe/Berlin:20201106T170000
DTSTAMP:20260426T062058
CREATED:20200817T124443Z
LAST-MODIFIED:20201027T170852Z
UID:10173-1603699200-1604682000@gesamtschule-quelle.de
SUMMARY:SBP JG9
DESCRIPTION:Produktionspraktikum im 9. Jahrgang
URL:https://gesamtschule-quelle.de/veranstaltung/sbp-jg9-2/
END:VEVENT
BEGIN:VEVENT
DTSTART;TZID=Europe/Berlin:20201103T133000
DTEND;TZID=Europe/Berlin:20201103T170000
DTSTAMP:20260426T062058
CREATED:20201028T132522Z
LAST-MODIFIED:20201028T133346Z
UID:10330-1604410200-1604422800@gesamtschule-quelle.de
SUMMARY:Pädagogische Konferenz JG 6
DESCRIPTION:Termin für Lehrerinnen und Lehrer im 6. Jahrgang.\nBitte beachtet die gesonderte Einladung.
URL:https://gesamtschule-quelle.de/veranstaltung/paedagogische-konferenz-jg-6/
END:VEVENT
BEGIN:VEVENT
DTSTART;TZID=Europe/Berlin:20201104T080000
DTEND;TZID=Europe/Berlin:20201104T160000
DTSTAMP:20260426T062058
CREATED:20201028T132653Z
LAST-MODIFIED:20201028T133429Z
UID:10332-1604476800-1604505600@gesamtschule-quelle.de
SUMMARY:Potentialanalyse JG8
DESCRIPTION:Termin für die Schülerinnen und Schüler der Klassen 8a und 8b. Genaueres erfahren die Schülerinnen und Schüler.
URL:https://gesamtschule-quelle.de/veranstaltung/potentialanalyse-jg8/
END:VEVENT
BEGIN:VEVENT
DTSTART;TZID=Europe/Berlin:20201105T080000
DTEND;TZID=Europe/Berlin:20201105T160000
DTSTAMP:20260426T062058
CREATED:20201028T132734Z
LAST-MODIFIED:20201028T133549Z
UID:10334-1604563200-1604592000@gesamtschule-quelle.de
SUMMARY:Potentialanalyse JG8
DESCRIPTION:Termin für die Schülerinnen und Schüler der Klassen 8c und 8d. Genaueres erfahren die Schülerinnen und Schüler.
URL:https://gesamtschule-quelle.de/veranstaltung/potentialanalyse-jg8-2/
END:VEVENT
BEGIN:VEVENT
DTSTART;TZID=Europe/Berlin:20201109T081000
DTEND;TZID=Europe/Berlin:20201109T160000
DTSTAMP:20260426T062058
CREATED:20201028T132857Z
LAST-MODIFIED:20201028T133301Z
UID:10336-1604909400-1604937600@gesamtschule-quelle.de
SUMMARY:Nachbereitung SBP JG9
DESCRIPTION:Termin für die Schülerinnen und Schüler des 9. Jahrgang
URL:https://gesamtschule-quelle.de/veranstaltung/nachbereitung-des-sbp-jg9/
END:VEVENT
BEGIN:VEVENT
DTSTART;TZID=Europe/Berlin:20201110T081000
DTEND;TZID=Europe/Berlin:20201110T133000
DTSTAMP:20260426T062058
CREATED:20201028T132937Z
LAST-MODIFIED:20201028T133220Z
UID:10338-1604995800-1605015000@gesamtschule-quelle.de
SUMMARY:Nachbereitung SBP JG9
DESCRIPTION:Termin für die Schülerinnen und Schüler des 9. Jahrgang
URL:https://gesamtschule-quelle.de/veranstaltung/nachbereitung-sbp-jg9/
END:VEVENT
BEGIN:VEVENT
DTSTART;TZID=Europe/Berlin:20201110T143000
DTEND;TZID=Europe/Berlin:20201110T163000
DTSTAMP:20260426T062058
CREATED:20201028T133029Z
LAST-MODIFIED:20201028T133142Z
UID:10340-1605018600-1605025800@gesamtschule-quelle.de
SUMMARY:Leko 3
DESCRIPTION:Termin für alle Lehrerinnen und Lehrer
URL:https://gesamtschule-quelle.de/veranstaltung/leko-3/
END:VEVENT
BEGIN:VEVENT
DTSTART;TZID=Europe/Berlin:20201111T150000
DTEND;TZID=Europe/Berlin:20201111T190000
DTSTAMP:20260426T062058
CREATED:20201028T164322Z
LAST-MODIFIED:20201102T080203Z
UID:10347-1605106800-1605121200@gesamtschule-quelle.de
SUMMARY:Beratungstag
DESCRIPTION:Beratungstag mit Terminen in der Schule nur für die Klassen a und c. Digitale/telefonische Termine auch für die Klassen b und d.\nDie konkreten Beratungstermine erhalten Sie durch das Klassenleiterteam!
URL:https://gesamtschule-quelle.de/veranstaltung/beratungstag/
END:VEVENT
BEGIN:VEVENT
DTSTART;TZID=Europe/Berlin:20201114T080000
DTEND;TZID=Europe/Berlin:20201114T080000
DTSTAMP:20260426T062058
CREATED:20201028T165145Z
LAST-MODIFIED:20201028T165145Z
UID:10360-1605340800-1605340800@gesamtschule-quelle.de
SUMMARY:Der Räuber Hotzenplotz
DESCRIPTION:Alle Klassen ab JG5 können sich Karten für das diesjährige Weihnachtsmärchen im Theater besorgen.
URL:https://gesamtschule-quelle.de/veranstaltung/der-raeuber-hotzenplotz/
END:VEVENT
BEGIN:VEVENT
DTSTART;TZID=Europe/Berlin:20201116T150000
DTEND;TZID=Europe/Berlin:20201116T190000
DTSTAMP:20260426T062058
CREATED:20201028T164433Z
LAST-MODIFIED:20201102T080449Z
UID:10350-1605538800-1605553200@gesamtschule-quelle.de
SUMMARY:Beratungstag
DESCRIPTION:Beratungstag mit Terminen in der Schule nur für die Klassen b und d. Digitale/telefonische Termine auch für die Klassen a und c.\nDie konkreten Beratungstermine erhalten Sie durch das Klassenleiterteam!
URL:https://gesamtschule-quelle.de/veranstaltung/beratungstag-2/
END:VEVENT
BEGIN:VEVENT
DTSTART;TZID=Europe/Berlin:20201119T080000
DTEND;TZID=Europe/Berlin:20201119T160000
DTSTAMP:20260426T062058
CREATED:20201028T164634Z
LAST-MODIFIED:20201028T164634Z
UID:10352-1605772800-1605801600@gesamtschule-quelle.de
SUMMARY:SchiLF-Tag
DESCRIPTION:Fortbildungstag für Lehrerinnen und Lehrer – Unterrichtsfrei für Schülerinnen und Schüler
URL:https://gesamtschule-quelle.de/veranstaltung/schilf-tag/
END:VEVENT
BEGIN:VEVENT
DTSTART;TZID=Europe/Berlin:20201120T080000
DTEND;TZID=Europe/Berlin:20201120T140000
DTSTAMP:20260426T062058
CREATED:20201028T164728Z
LAST-MODIFIED:20201028T164728Z
UID:10354-1605859200-1605880800@gesamtschule-quelle.de
SUMMARY:Auswertungstag der Potentialanalyse JG8
DESCRIPTION:Die Schülerinnen und Schüler erhalten individuelle Uhrzeiten!
URL:https://gesamtschule-quelle.de/veranstaltung/auswertungstag-der-potentialanalyse-jg8/
END:VEVENT
BEGIN:VEVENT
DTSTART;TZID=Europe/Berlin:20201124T140000
DTEND;TZID=Europe/Berlin:20201124T160000
DTSTAMP:20260426T062058
CREATED:20201028T165008Z
LAST-MODIFIED:20201028T165008Z
UID:10358-1606226400-1606233600@gesamtschule-quelle.de
SUMMARY:SEKII-Konferenz
DESCRIPTION:Termin für alle Lehrkräfte\, die in der Oberstufe unterrichten. Bitte die Einladung beachten!
URL:https://gesamtschule-quelle.de/veranstaltung/sekii-konferenz/
END:VEVENT
BEGIN:VEVENT
DTSTART;TZID=Europe/Berlin:20201124T190000
DTEND;TZID=Europe/Berlin:20201124T190000
DTSTAMP:20260426T062058
CREATED:20201028T164907Z
LAST-MODIFIED:20201120T122257Z
UID:10356-1606244400-1606244400@gesamtschule-quelle.de
SUMMARY:Informationsabend der Berufskollegs - abgesagt
DESCRIPTION:Leider muss auch dieser Abend aufgrund der derzeitigen Vorgaben abgesagt werden.
URL:https://gesamtschule-quelle.de/veranstaltung/informationsabend-der-berufskollegs/
END:VEVENT
END:VCALENDAR