BEGIN:VCALENDAR
VERSION:2.0
PRODID:-//GesamtSchule Quelle - ECPv6.15.20//NONSGML v1.0//EN
CALSCALE:GREGORIAN
METHOD:PUBLISH
X-ORIGINAL-URL:https://gesamtschule-quelle.de
X-WR-CALDESC:Veranstaltungen für GesamtSchule Quelle
REFRESH-INTERVAL;VALUE=DURATION:PT1H
X-Robots-Tag:noindex
X-PUBLISHED-TTL:PT1H
BEGIN:VTIMEZONE
TZID:Europe/Berlin
BEGIN:DAYLIGHT
TZOFFSETFROM:+0100
TZOFFSETTO:+0200
TZNAME:CEST
DTSTART:20190331T010000
END:DAYLIGHT
BEGIN:STANDARD
TZOFFSETFROM:+0200
TZOFFSETTO:+0100
TZNAME:CET
DTSTART:20191027T010000
END:STANDARD
BEGIN:DAYLIGHT
TZOFFSETFROM:+0100
TZOFFSETTO:+0200
TZNAME:CEST
DTSTART:20200329T010000
END:DAYLIGHT
BEGIN:STANDARD
TZOFFSETFROM:+0200
TZOFFSETTO:+0100
TZNAME:CET
DTSTART:20201025T010000
END:STANDARD
BEGIN:DAYLIGHT
TZOFFSETFROM:+0100
TZOFFSETTO:+0200
TZNAME:CEST
DTSTART:20210328T010000
END:DAYLIGHT
BEGIN:STANDARD
TZOFFSETFROM:+0200
TZOFFSETTO:+0100
TZNAME:CET
DTSTART:20211031T010000
END:STANDARD
BEGIN:DAYLIGHT
TZOFFSETFROM:+0100
TZOFFSETTO:+0200
TZNAME:CEST
DTSTART:20220327T010000
END:DAYLIGHT
BEGIN:STANDARD
TZOFFSETFROM:+0200
TZOFFSETTO:+0100
TZNAME:CET
DTSTART:20221030T010000
END:STANDARD
END:VTIMEZONE
BEGIN:VEVENT
DTSTART;TZID=Europe/Berlin:20201203T190000
DTEND;TZID=Europe/Berlin:20201203T210000
DTSTAMP:20260426T050218
CREATED:20201030T085056Z
LAST-MODIFIED:20201118T161352Z
UID:10413-1607022000-1607029200@gesamtschule-quelle.de
SUMMARY:Informationsabend - muss leider verschoben werden
DESCRIPTION:Leider dürfen auch die Informationsabende im Dezember noch nicht stattfinden. Wir planen die Ersatztermine am 12. bzw. 19. Januar 2021.
URL:https://gesamtschule-quelle.de/veranstaltung/informationsabend-fuer-den-neuen-jg-5-i/
LOCATION:Mensa
END:VEVENT
BEGIN:VEVENT
DTSTART;TZID=Europe/Berlin:20201205T080000
DTEND;TZID=Europe/Berlin:20201205T080000
DTSTAMP:20260426T050218
CREATED:20201028T165330Z
LAST-MODIFIED:20201028T165330Z
UID:10362-1607155200-1607155200@gesamtschule-quelle.de
SUMMARY:Tamerlane (Musik und Tanz)
DESCRIPTION:Für alle Kurse ab JG11.
URL:https://gesamtschule-quelle.de/veranstaltung/tamerlane-musik-und-tanz/
END:VEVENT
BEGIN:VEVENT
DTSTART;TZID=Europe/Berlin:20201207T190000
DTEND;TZID=Europe/Berlin:20201207T210000
DTSTAMP:20260426T050218
CREATED:20201030T085134Z
LAST-MODIFIED:20201118T161500Z
UID:10416-1607367600-1607374800@gesamtschule-quelle.de
SUMMARY:Informationsabend - muss leider verschoben werden
DESCRIPTION:Leider dürfen auch die Informationsabende im Dezember noch nicht stattfinden. Wir planen die Ersatztermine am 12. bzw. 19. Januar 2021.
URL:https://gesamtschule-quelle.de/veranstaltung/informationsabend-fuer-den-neuen-jg5-ii/
END:VEVENT
BEGIN:VEVENT
DTSTART;TZID=Europe/Berlin:20201210T190000
DTEND;TZID=Europe/Berlin:20201210T190000
DTSTAMP:20260426T050218
CREATED:20201028T165438Z
LAST-MODIFIED:20201028T165438Z
UID:10364-1607626800-1607626800@gesamtschule-quelle.de
SUMMARY:Schulkonferenz
DESCRIPTION:Bitte beachten Sie die Einladung!
URL:https://gesamtschule-quelle.de/veranstaltung/schulkonferenz-2/
LOCATION:Mensa
END:VEVENT
BEGIN:VEVENT
DTSTART;TZID=Europe/Berlin:20201223T080000
DTEND;TZID=Europe/Berlin:20210106T170000
DTSTAMP:20260426T050218
CREATED:20200805T085519Z
LAST-MODIFIED:20201027T162200Z
UID:10090-1608710400-1609952400@gesamtschule-quelle.de
SUMMARY:Weihnachtsferien
DESCRIPTION:
URL:https://gesamtschule-quelle.de/veranstaltung/weihnachtsferien-2/
END:VEVENT
END:VCALENDAR