BEGIN:VCALENDAR
VERSION:2.0
PRODID:-//GesamtSchule Quelle - ECPv6.15.20//NONSGML v1.0//EN
CALSCALE:GREGORIAN
METHOD:PUBLISH
X-ORIGINAL-URL:https://gesamtschule-quelle.de
X-WR-CALDESC:Veranstaltungen für GesamtSchule Quelle
REFRESH-INTERVAL;VALUE=DURATION:PT1H
X-Robots-Tag:noindex
X-PUBLISHED-TTL:PT1H
BEGIN:VTIMEZONE
TZID:Europe/Berlin
BEGIN:DAYLIGHT
TZOFFSETFROM:+0100
TZOFFSETTO:+0200
TZNAME:CEST
DTSTART:20190331T010000
END:DAYLIGHT
BEGIN:STANDARD
TZOFFSETFROM:+0200
TZOFFSETTO:+0100
TZNAME:CET
DTSTART:20191027T010000
END:STANDARD
BEGIN:DAYLIGHT
TZOFFSETFROM:+0100
TZOFFSETTO:+0200
TZNAME:CEST
DTSTART:20200329T010000
END:DAYLIGHT
BEGIN:STANDARD
TZOFFSETFROM:+0200
TZOFFSETTO:+0100
TZNAME:CET
DTSTART:20201025T010000
END:STANDARD
BEGIN:DAYLIGHT
TZOFFSETFROM:+0100
TZOFFSETTO:+0200
TZNAME:CEST
DTSTART:20210328T010000
END:DAYLIGHT
BEGIN:STANDARD
TZOFFSETFROM:+0200
TZOFFSETTO:+0100
TZNAME:CET
DTSTART:20211031T010000
END:STANDARD
BEGIN:DAYLIGHT
TZOFFSETFROM:+0100
TZOFFSETTO:+0200
TZNAME:CEST
DTSTART:20220327T010000
END:DAYLIGHT
BEGIN:STANDARD
TZOFFSETFROM:+0200
TZOFFSETTO:+0100
TZNAME:CET
DTSTART:20221030T010000
END:STANDARD
END:VTIMEZONE
BEGIN:VEVENT
DTSTART;TZID=Europe/Berlin:20201223T080000
DTEND;TZID=Europe/Berlin:20210106T170000
DTSTAMP:20260426T034353
CREATED:20200805T085519Z
LAST-MODIFIED:20201027T162200Z
UID:10090-1608710400-1609952400@gesamtschule-quelle.de
SUMMARY:Weihnachtsferien
DESCRIPTION:
URL:https://gesamtschule-quelle.de/veranstaltung/weihnachtsferien-2/
END:VEVENT
BEGIN:VEVENT
DTSTART;TZID=Europe/Berlin:20210109T080000
DTEND;TZID=Europe/Berlin:20210109T080000
DTSTAMP:20260426T034353
CREATED:20201028T165554Z
LAST-MODIFIED:20201028T165554Z
UID:10366-1610179200-1610179200@gesamtschule-quelle.de
SUMMARY:Mephisto (Schauspiel)
DESCRIPTION:Alle Kurse ab JG11.
URL:https://gesamtschule-quelle.de/veranstaltung/mephisto-schauspiel/
END:VEVENT
BEGIN:VEVENT
DTSTART;TZID=Europe/Berlin:20210112T190000
DTEND;TZID=Europe/Berlin:20210112T210000
DTSTAMP:20260426T034353
CREATED:20201118T161044Z
LAST-MODIFIED:20210107T110802Z
UID:10508-1610478000-1610485200@gesamtschule-quelle.de
SUMMARY:Informationsabend neuer JG5 - muss leider entfallen!
DESCRIPTION:Dieser Abend muss leider nun auch ausfallen. Bitte nutzen Sie unseren digitalen und persönlichen Möglichkeiten unsere Schule kennenzulernen.
URL:https://gesamtschule-quelle.de/veranstaltung/informationsabend-neuer-jg5/
END:VEVENT
BEGIN:VEVENT
DTSTART;TZID=Europe/Berlin:20210113T190000
DTEND;TZID=Europe/Berlin:20210113T210000
DTSTAMP:20260426T034353
CREATED:20201028T165815Z
LAST-MODIFIED:20210107T111042Z
UID:10370-1610564400-1610571600@gesamtschule-quelle.de
SUMMARY:Informationsveranstaltung für den neuen JG11 - muss leider entfallen!
DESCRIPTION:Dieser Abend muss leider nun auch ausfallen. Bitte nutzen Sie unseren digitalen und persönlichen Möglichkeiten unsere Schule kennenzulernen. Weitere Informationen folgen auf unserer Homepage.
URL:https://gesamtschule-quelle.de/veranstaltung/informationsveranstaltung-fuer-den-neuen-jg11/
LOCATION:Mensa
END:VEVENT
BEGIN:VEVENT
DTSTART;TZID=Europe/Berlin:20210114T190000
DTEND;TZID=Europe/Berlin:20210114T210000
DTSTAMP:20260426T034353
CREATED:20201103T110243Z
LAST-MODIFIED:20210107T110959Z
UID:10442-1610650800-1610658000@gesamtschule-quelle.de
SUMMARY:Informationsveranstaltung für den neuen JG 11 - muss leider entfallen!
DESCRIPTION:Dieser Abend muss leider nun auch ausfallen. Bitte nutzen Sie unseren digitalen und persönlichen Möglichkeiten unsere Schule kennenzulernen. Weitere Informationen folgen auf unserer Homepage.
URL:https://gesamtschule-quelle.de/veranstaltung/informationsveranstaltung-fuer-den-neuen-jahrgang-11-2/
END:VEVENT
BEGIN:VEVENT
DTSTART;TZID=Europe/Berlin:20210119T080000
DTEND;TZID=Europe/Berlin:20210119T170000
DTSTAMP:20260426T034353
CREATED:20210119T162358Z
LAST-MODIFIED:20210119T162358Z
UID:10651-1611043200-1611075600@gesamtschule-quelle.de
SUMMARY:Digitaler Elternabend zum Thema „Illegale Inhalte in Klassenchats“
DESCRIPTION:Schulweiter\, digitaler Elternabend zum Thema „Illegale Inhalte in Klassenchats“ \nReferent: Herr Rösler (Kommissariat Vorbeugung und Opferschutz der Polizei NRW) \nMit diesem Link können Sie an der Veranstaltung – ein Microsoft Teams-Meeting – teilnehmen. Laden Sie entweder die kostenfreie Teams App herunter\, nutzen Sie die digitalen Endgeräte Ihrer Kinder (auf denen Teams vorhanden ist) oder schalten Sie sich direkt aus einem Browser (nutzen Sie nicht Fire Fox!) zu.
URL:https://gesamtschule-quelle.de/veranstaltung/digitaler-elternabend-zum-thema-illegale-inhalte-in-klassenchats/
END:VEVENT
BEGIN:VEVENT
DTSTART;TZID=Europe/Berlin:20210119T190000
DTEND;TZID=Europe/Berlin:20210119T210000
DTSTAMP:20260426T034353
CREATED:20201118T161632Z
LAST-MODIFIED:20210107T111145Z
UID:10513-1611082800-1611090000@gesamtschule-quelle.de
SUMMARY:Informationsabend neuer JG5 - muss leider entfallen!
DESCRIPTION:Dieser Abend muss leider nun auch ausfallen. Bitte nutzen Sie unseren digitalen und persönlichen Möglichkeiten unsere Schule kennenzulernen.
URL:https://gesamtschule-quelle.de/veranstaltung/informationsabend-neuer-jg5-2/
END:VEVENT
BEGIN:VEVENT
DTSTART;TZID=Europe/Berlin:20210126T133000
DTEND;TZID=Europe/Berlin:20210126T141500
DTSTAMP:20260426T034353
CREATED:20201028T170023Z
LAST-MODIFIED:20210112T101230Z
UID:10372-1611667800-1611670500@gesamtschule-quelle.de
SUMMARY:DiBe JG5
DESCRIPTION:Termin für alle Lehrkräfte in JG5 – bitte Einladung beachten!
URL:https://gesamtschule-quelle.de/veranstaltung/dibe-jg5/
END:VEVENT
BEGIN:VEVENT
DTSTART;TZID=Europe/Berlin:20210126T143000
DTEND;TZID=Europe/Berlin:20210126T163000
DTSTAMP:20260426T034353
CREATED:20201028T165709Z
LAST-MODIFIED:20210119T161918Z
UID:10368-1611671400-1611678600@gesamtschule-quelle.de
SUMMARY:Online-Leko
DESCRIPTION:Termin für alle Lehrerinnen und Lehrer – bitte Einladung beachten.
URL:https://gesamtschule-quelle.de/veranstaltung/leko/
END:VEVENT
BEGIN:VEVENT
DTSTART;TZID=Europe/Berlin:20210129T110000
DTEND;TZID=Europe/Berlin:20210129T110000
DTSTAMP:20260426T034353
CREATED:20201028T170220Z
LAST-MODIFIED:20201028T170220Z
UID:10376-1611918000-1611918000@gesamtschule-quelle.de
SUMMARY:Halbjahreszeugnisse
DESCRIPTION:
URL:https://gesamtschule-quelle.de/veranstaltung/halbjahreszeugnisse/
END:VEVENT
END:VCALENDAR