BEGIN:VCALENDAR
VERSION:2.0
PRODID:-//GesamtSchule Quelle - ECPv6.15.20//NONSGML v1.0//EN
CALSCALE:GREGORIAN
METHOD:PUBLISH
X-ORIGINAL-URL:https://gesamtschule-quelle.de
X-WR-CALDESC:Veranstaltungen für GesamtSchule Quelle
REFRESH-INTERVAL;VALUE=DURATION:PT1H
X-Robots-Tag:noindex
X-PUBLISHED-TTL:PT1H
BEGIN:VTIMEZONE
TZID:Europe/Berlin
BEGIN:DAYLIGHT
TZOFFSETFROM:+0100
TZOFFSETTO:+0200
TZNAME:CEST
DTSTART:20200329T010000
END:DAYLIGHT
BEGIN:STANDARD
TZOFFSETFROM:+0200
TZOFFSETTO:+0100
TZNAME:CET
DTSTART:20201025T010000
END:STANDARD
BEGIN:DAYLIGHT
TZOFFSETFROM:+0100
TZOFFSETTO:+0200
TZNAME:CEST
DTSTART:20210328T010000
END:DAYLIGHT
BEGIN:STANDARD
TZOFFSETFROM:+0200
TZOFFSETTO:+0100
TZNAME:CET
DTSTART:20211031T010000
END:STANDARD
BEGIN:DAYLIGHT
TZOFFSETFROM:+0100
TZOFFSETTO:+0200
TZNAME:CEST
DTSTART:20220327T010000
END:DAYLIGHT
BEGIN:STANDARD
TZOFFSETFROM:+0200
TZOFFSETTO:+0100
TZNAME:CET
DTSTART:20221030T010000
END:STANDARD
END:VTIMEZONE
BEGIN:VEVENT
DTSTART;TZID=Europe/Berlin:20210301T120000
DTEND;TZID=Europe/Berlin:20210301T120000
DTSTAMP:20260426T012609
CREATED:20210112T101614Z
LAST-MODIFIED:20210112T101614Z
UID:10634-1614600000-1614600000@gesamtschule-quelle.de
SUMMARY:Abgabe der Facharbeit
DESCRIPTION:Termin für Jahrgang Q1
URL:https://gesamtschule-quelle.de/veranstaltung/abgabe-der-facharbeit/
END:VEVENT
BEGIN:VEVENT
DTSTART;TZID=Europe/Berlin:20210302T150000
DTEND;TZID=Europe/Berlin:20210302T170000
DTSTAMP:20260426T012609
CREATED:20201028T171245Z
LAST-MODIFIED:20201028T171245Z
UID:10392-1614697200-1614704400@gesamtschule-quelle.de
SUMMARY:Fako III
DESCRIPTION:Termin für alle Lehrkräfte mit Fächern in der Fako-Schiene 3
URL:https://gesamtschule-quelle.de/veranstaltung/fako-iii/
END:VEVENT
BEGIN:VEVENT
DTSTART;TZID=Europe/Berlin:20210309T150000
DTEND;TZID=Europe/Berlin:20210309T170000
DTSTAMP:20260426T012609
CREATED:20201028T171328Z
LAST-MODIFIED:20201028T171328Z
UID:10394-1615302000-1615309200@gesamtschule-quelle.de
SUMMARY:Fako IV
DESCRIPTION:Termin für alle Lehrkräfte mit Fächern in der Fako-Schiene 4
URL:https://gesamtschule-quelle.de/veranstaltung/fako-iv/
END:VEVENT
BEGIN:VEVENT
DTSTART;TZID=Europe/Berlin:20210311T190000
DTEND;TZID=Europe/Berlin:20210311T210000
DTSTAMP:20260426T012609
CREATED:20201028T170924Z
LAST-MODIFIED:20210308T085430Z
UID:10386-1615489200-1615496400@gesamtschule-quelle.de
SUMMARY:Informationsabend zur Wahlpflichtwahl in JG6
DESCRIPTION:Der Informationsabend für alle Eltern des 6. Jahrgangs zum Wahlpflichtangebot ab JG7 an der GSQ wird in diesem online über Teams stattfinden. Alle betroffenen Eltern erhalten die Einladung zur Videokonferenz über die Stammgruppenlehrer per Mail.
URL:https://gesamtschule-quelle.de/veranstaltung/informationsabend-zur-wahlpflichtwahl-in-jg6/
END:VEVENT
BEGIN:VEVENT
DTSTART;TZID=Europe/Berlin:20210323T190000
DTEND;TZID=Europe/Berlin:20210323T210000
DTSTAMP:20260426T012609
CREATED:20210308T085851Z
LAST-MODIFIED:20210308T085851Z
UID:10719-1616526000-1616533200@gesamtschule-quelle.de
SUMMARY:Informationsabend für die neue Jahrgangsstufe 11
DESCRIPTION:Dieser Informationsabend ist für alle Schülerinnen und Schüler sowie deren Eltern\, die für die neue Jahrgangsstufe 11 an unserer Schule angenommen worden sind. Nähere Informationen sind auch im Schreiben\, das Sie für die Aufnahme an unserer Schule bekommen haben. \nDiese Veranstaltung wird unter Umständen auch online stattfinden. Dann erhalten alle rechtzeitig einen entsprechenden Einladungslink.
URL:https://gesamtschule-quelle.de/veranstaltung/informationsabend-fuer-die-neue-jahrgangsstufe-11/
END:VEVENT
BEGIN:VEVENT
DTSTART;TZID=Europe/Berlin:20210329T080000
DTEND;TZID=Europe/Berlin:20210409T170000
DTSTAMP:20260426T012609
CREATED:20200805T085555Z
LAST-MODIFIED:20201027T163139Z
UID:10092-1617004800-1617987600@gesamtschule-quelle.de
SUMMARY:Osterferien
DESCRIPTION:
URL:https://gesamtschule-quelle.de/veranstaltung/osterferien-2/
END:VEVENT
END:VCALENDAR