BEGIN:VCALENDAR
VERSION:2.0
PRODID:-//GesamtSchule Quelle - ECPv6.15.20//NONSGML v1.0//EN
CALSCALE:GREGORIAN
METHOD:PUBLISH
X-ORIGINAL-URL:https://gesamtschule-quelle.de
X-WR-CALDESC:Veranstaltungen für GesamtSchule Quelle
REFRESH-INTERVAL;VALUE=DURATION:PT1H
X-Robots-Tag:noindex
X-PUBLISHED-TTL:PT1H
BEGIN:VTIMEZONE
TZID:Europe/Berlin
BEGIN:DAYLIGHT
TZOFFSETFROM:+0100
TZOFFSETTO:+0200
TZNAME:CEST
DTSTART:20200329T010000
END:DAYLIGHT
BEGIN:STANDARD
TZOFFSETFROM:+0200
TZOFFSETTO:+0100
TZNAME:CET
DTSTART:20201025T010000
END:STANDARD
BEGIN:DAYLIGHT
TZOFFSETFROM:+0100
TZOFFSETTO:+0200
TZNAME:CEST
DTSTART:20210328T010000
END:DAYLIGHT
BEGIN:STANDARD
TZOFFSETFROM:+0200
TZOFFSETTO:+0100
TZNAME:CET
DTSTART:20211031T010000
END:STANDARD
BEGIN:DAYLIGHT
TZOFFSETFROM:+0100
TZOFFSETTO:+0200
TZNAME:CEST
DTSTART:20220327T010000
END:DAYLIGHT
BEGIN:STANDARD
TZOFFSETFROM:+0200
TZOFFSETTO:+0100
TZNAME:CET
DTSTART:20221030T010000
END:STANDARD
END:VTIMEZONE
BEGIN:VEVENT
DTSTART;TZID=Europe/Berlin:20210901T190000
DTEND;TZID=Europe/Berlin:20210901T190000
DTSTAMP:20260425T173131
CREATED:20210823T111147Z
LAST-MODIFIED:20210823T111147Z
UID:10867-1630522800-1630522800@gesamtschule-quelle.de
SUMMARY:Pflegschaft Jahrgang 7
DESCRIPTION:Bitte die jeweiligen Einladungen der einzelnen Klassen beachten.
URL:https://gesamtschule-quelle.de/veranstaltung/pflegschaft-jahrgang-7/
END:VEVENT
BEGIN:VEVENT
DTSTART;TZID=Europe/Berlin:20210902T190000
DTEND;TZID=Europe/Berlin:20210902T190000
DTSTAMP:20260425T173131
CREATED:20210823T111244Z
LAST-MODIFIED:20210823T111244Z
UID:10869-1630609200-1630609200@gesamtschule-quelle.de
SUMMARY:Pflegschaft Jahrgang 5
DESCRIPTION:Bitte die jeweiligen Einladungen der einzelnen Klassen beachten.
URL:https://gesamtschule-quelle.de/veranstaltung/pflegschaft-jahrgang-5/
END:VEVENT
BEGIN:VEVENT
DTSTART;VALUE=DATE:20210903
DTEND;VALUE=DATE:20210904
DTSTAMP:20260425T173131
CREATED:20210823T121340Z
LAST-MODIFIED:20210823T121340Z
UID:10882-1630627200-1630627200@gesamtschule-quelle.de
SUMMARY:Zukunftstag
DESCRIPTION:Veranstaltung für den Jahrgang 13!
URL:https://gesamtschule-quelle.de/veranstaltung/zukunftstag/
END:VEVENT
BEGIN:VEVENT
DTSTART;TZID=Europe/Berlin:20210907T150000
DTEND;TZID=Europe/Berlin:20210907T163000
DTSTAMP:20260425T173131
CREATED:20210823T120710Z
LAST-MODIFIED:20210823T120852Z
UID:10873-1631026800-1631032200@gesamtschule-quelle.de
SUMMARY:Fako I
DESCRIPTION:Treffen aller Fachschaften in der Fako-Schiene 1. Bitte die jeweilige Einladung beachten.
URL:https://gesamtschule-quelle.de/veranstaltung/fako-i-3/
END:VEVENT
BEGIN:VEVENT
DTSTART;TZID=Europe/Berlin:20210909T190000
DTEND;TZID=Europe/Berlin:20210909T190000
DTSTAMP:20260425T173131
CREATED:20210823T111346Z
LAST-MODIFIED:20210823T111346Z
UID:10871-1631214000-1631214000@gesamtschule-quelle.de
SUMMARY:Pflegschaft Jahrgang EF
DESCRIPTION:Bitte die entsprechende Einladung beachten.
URL:https://gesamtschule-quelle.de/veranstaltung/pflegschaft-jahrgang-ef/
END:VEVENT
BEGIN:VEVENT
DTSTART;TZID=Europe/Berlin:20210914T150000
DTEND;TZID=Europe/Berlin:20210914T163000
DTSTAMP:20260425T173131
CREATED:20210823T120747Z
LAST-MODIFIED:20210823T120937Z
UID:10875-1631631600-1631637000@gesamtschule-quelle.de
SUMMARY:Fako II
DESCRIPTION:Treffen aller Fachschaften in der Fako-Schiene 2. Bitte die jeweilige Einladung beachten.
URL:https://gesamtschule-quelle.de/veranstaltung/fako-ii-3/
END:VEVENT
BEGIN:VEVENT
DTSTART;VALUE=DATE:20210922
DTEND;VALUE=DATE:20210923
DTSTAMP:20260425T173131
CREATED:20210908T111814Z
LAST-MODIFIED:20210908T111814Z
UID:10902-1632268800-1632355199@gesamtschule-quelle.de
SUMMARY:DASA Dortmund JG9
DESCRIPTION:Ausflug zur DASA des 9. Jahrgangs
URL:https://gesamtschule-quelle.de/veranstaltung/dasa-dortmund-jg9/
END:VEVENT
END:VCALENDAR