BEGIN:VCALENDAR
VERSION:2.0
PRODID:-//GesamtSchule Quelle - ECPv6.15.20//NONSGML v1.0//EN
CALSCALE:GREGORIAN
METHOD:PUBLISH
X-WR-CALNAME:GesamtSchule Quelle
X-ORIGINAL-URL:https://gesamtschule-quelle.de
X-WR-CALDESC:Veranstaltungen für GesamtSchule Quelle
REFRESH-INTERVAL;VALUE=DURATION:PT1H
X-Robots-Tag:noindex
X-PUBLISHED-TTL:PT1H
BEGIN:VTIMEZONE
TZID:Europe/Berlin
BEGIN:DAYLIGHT
TZOFFSETFROM:+0100
TZOFFSETTO:+0200
TZNAME:CEST
DTSTART:20200329T010000
END:DAYLIGHT
BEGIN:STANDARD
TZOFFSETFROM:+0200
TZOFFSETTO:+0100
TZNAME:CET
DTSTART:20201025T010000
END:STANDARD
BEGIN:DAYLIGHT
TZOFFSETFROM:+0100
TZOFFSETTO:+0200
TZNAME:CEST
DTSTART:20210328T010000
END:DAYLIGHT
BEGIN:STANDARD
TZOFFSETFROM:+0200
TZOFFSETTO:+0100
TZNAME:CET
DTSTART:20211031T010000
END:STANDARD
BEGIN:DAYLIGHT
TZOFFSETFROM:+0100
TZOFFSETTO:+0200
TZNAME:CEST
DTSTART:20220327T010000
END:DAYLIGHT
BEGIN:STANDARD
TZOFFSETFROM:+0200
TZOFFSETTO:+0100
TZNAME:CET
DTSTART:20221030T010000
END:STANDARD
END:VTIMEZONE
BEGIN:VEVENT
DTSTART;TZID=Europe/Berlin:20211005T150000
DTEND;TZID=Europe/Berlin:20211005T163000
DTSTAMP:20260425T160510
CREATED:20210823T121054Z
LAST-MODIFIED:20210823T121054Z
UID:10878-1633446000-1633451400@gesamtschule-quelle.de
SUMMARY:Fako III
DESCRIPTION:Treffen aller Fachschaften in der Fako-Schiene 3. Bitte die jeweilige Einladung beachten.
URL:https://gesamtschule-quelle.de/veranstaltung/fako-iii-3/
END:VEVENT
BEGIN:VEVENT
DTSTART;TZID=Europe/Berlin:20211025T080000
DTEND;TZID=Europe/Berlin:20211105T170000
DTSTAMP:20260425T160510
CREATED:20210908T112044Z
LAST-MODIFIED:20210908T112044Z
UID:10904-1635148800-1636131600@gesamtschule-quelle.de
SUMMARY:Betriebspraktikum
DESCRIPTION:Betriebspraktikum\nProduktionspraktikum des 9. Jahrgangs – Veranstaltung für alle Schülerinnen und Schüler \nJeweils 2 Tage Vor- und Nachbereitung
URL:https://gesamtschule-quelle.de/veranstaltung/betriebspraktikum/
END:VEVENT
END:VCALENDAR