BEGIN:VCALENDAR
VERSION:2.0
PRODID:-//GesamtSchule Quelle - ECPv6.15.20//NONSGML v1.0//EN
CALSCALE:GREGORIAN
METHOD:PUBLISH
X-ORIGINAL-URL:https://gesamtschule-quelle.de
X-WR-CALDESC:Veranstaltungen für GesamtSchule Quelle
REFRESH-INTERVAL;VALUE=DURATION:PT1H
X-Robots-Tag:noindex
X-PUBLISHED-TTL:PT1H
BEGIN:VTIMEZONE
TZID:Europe/Berlin
BEGIN:DAYLIGHT
TZOFFSETFROM:+0100
TZOFFSETTO:+0200
TZNAME:CEST
DTSTART:20210328T010000
END:DAYLIGHT
BEGIN:STANDARD
TZOFFSETFROM:+0200
TZOFFSETTO:+0100
TZNAME:CET
DTSTART:20211031T010000
END:STANDARD
BEGIN:DAYLIGHT
TZOFFSETFROM:+0100
TZOFFSETTO:+0200
TZNAME:CEST
DTSTART:20220327T010000
END:DAYLIGHT
BEGIN:STANDARD
TZOFFSETFROM:+0200
TZOFFSETTO:+0100
TZNAME:CET
DTSTART:20221030T010000
END:STANDARD
BEGIN:DAYLIGHT
TZOFFSETFROM:+0100
TZOFFSETTO:+0200
TZNAME:CEST
DTSTART:20230326T010000
END:DAYLIGHT
BEGIN:STANDARD
TZOFFSETFROM:+0200
TZOFFSETTO:+0100
TZNAME:CET
DTSTART:20231029T010000
END:STANDARD
END:VTIMEZONE
BEGIN:VEVENT
DTSTART;TZID=Europe/Berlin:20220907T080000
DTEND;TZID=Europe/Berlin:20220907T170000
DTSTAMP:20260425T010247
CREATED:20220818T081708Z
LAST-MODIFIED:20220818T081708Z
UID:11432-1662537600-1662570000@gesamtschule-quelle.de
SUMMARY:Kollegiumstag
DESCRIPTION:Unterrichtsfrei für alle Schülerinnen und Schüler.
URL:https://gesamtschule-quelle.de/veranstaltung/kollegiumstag/
END:VEVENT
BEGIN:VEVENT
DTSTART;TZID=Europe/Berlin:20220915T200000
DTEND;TZID=Europe/Berlin:20220915T200000
DTSTAMP:20260425T010247
CREATED:20220818T081425Z
LAST-MODIFIED:20220830T094707Z
UID:11424-1663272000-1663272000@gesamtschule-quelle.de
SUMMARY:Schulpflegschaft
DESCRIPTION:Bitte gesonderte Einladung beachten!
URL:https://gesamtschule-quelle.de/veranstaltung/schulpflegschaft-3/
END:VEVENT
END:VCALENDAR