BEGIN:VCALENDAR
VERSION:2.0
PRODID:-//GesamtSchule Quelle - ECPv6.15.20//NONSGML v1.0//EN
CALSCALE:GREGORIAN
METHOD:PUBLISH
X-WR-CALNAME:GesamtSchule Quelle
X-ORIGINAL-URL:https://gesamtschule-quelle.de
X-WR-CALDESC:Veranstaltungen für GesamtSchule Quelle
REFRESH-INTERVAL;VALUE=DURATION:PT1H
X-Robots-Tag:noindex
X-PUBLISHED-TTL:PT1H
BEGIN:VTIMEZONE
TZID:Europe/Berlin
BEGIN:DAYLIGHT
TZOFFSETFROM:+0100
TZOFFSETTO:+0200
TZNAME:CEST
DTSTART:20210328T010000
END:DAYLIGHT
BEGIN:STANDARD
TZOFFSETFROM:+0200
TZOFFSETTO:+0100
TZNAME:CET
DTSTART:20211031T010000
END:STANDARD
BEGIN:DAYLIGHT
TZOFFSETFROM:+0100
TZOFFSETTO:+0200
TZNAME:CEST
DTSTART:20220327T010000
END:DAYLIGHT
BEGIN:STANDARD
TZOFFSETFROM:+0200
TZOFFSETTO:+0100
TZNAME:CET
DTSTART:20221030T010000
END:STANDARD
BEGIN:DAYLIGHT
TZOFFSETFROM:+0100
TZOFFSETTO:+0200
TZNAME:CEST
DTSTART:20230326T010000
END:DAYLIGHT
BEGIN:STANDARD
TZOFFSETFROM:+0200
TZOFFSETTO:+0100
TZNAME:CET
DTSTART:20231029T010000
END:STANDARD
END:VTIMEZONE
BEGIN:VEVENT
DTSTART;VALUE=DATE:20221101
DTEND;VALUE=DATE:20221102
DTSTAMP:20260424T220258
CREATED:20221024T080250Z
LAST-MODIFIED:20221024T094656Z
UID:11518-1667260800-1667347199@gesamtschule-quelle.de
SUMMARY:Allerheiligen
DESCRIPTION:Gesetzlicher Feiertag in NRW
URL:https://gesamtschule-quelle.de/veranstaltung/allerheiligen/
END:VEVENT
BEGIN:VEVENT
DTSTART;TZID=Europe/Berlin:20221102T080000
DTEND;TZID=Europe/Berlin:20221102T140000
DTSTAMP:20260424T220258
CREATED:20221019T074024Z
LAST-MODIFIED:20221019T074147Z
UID:11494-1667376000-1667397600@gesamtschule-quelle.de
SUMMARY:Potentialanalyse Klasse 8a und 8b
DESCRIPTION:Termin jeweils für die ganze Klasse
URL:https://gesamtschule-quelle.de/veranstaltung/potentialanalyse-klasse-8a-und-8b/
END:VEVENT
BEGIN:VEVENT
DTSTART;TZID=Europe/Berlin:20221102T080000
DTEND;TZID=Europe/Berlin:20221103T160000
DTSTAMP:20260424T220258
CREATED:20221019T075829Z
LAST-MODIFIED:20221019T075843Z
UID:11502-1667376000-1667491200@gesamtschule-quelle.de
SUMMARY:Nachbereitungstage BP JG9
DESCRIPTION:Individuelle Planung der einzelnen Klassen beachten
URL:https://gesamtschule-quelle.de/veranstaltung/nachbereitungstage-bp-jg9/
END:VEVENT
BEGIN:VEVENT
DTSTART;TZID=Europe/Berlin:20221103T080000
DTEND;TZID=Europe/Berlin:20221103T140000
DTSTAMP:20260424T220258
CREATED:20221019T074120Z
LAST-MODIFIED:20221019T074120Z
UID:11496-1667462400-1667484000@gesamtschule-quelle.de
SUMMARY:Potentialanalyse Klasse 8c und 8d
DESCRIPTION:Termin jeweils für die ganze Klasse
URL:https://gesamtschule-quelle.de/veranstaltung/potentialanalyse-klasse-8c-und-8d/
END:VEVENT
BEGIN:VEVENT
DTSTART;TZID=Europe/Berlin:20221110T113000
DTEND;TZID=Europe/Berlin:20221110T190000
DTSTAMP:20260424T220258
CREATED:20220818T082041Z
LAST-MODIFIED:20220818T082041Z
UID:11438-1668079800-1668106800@gesamtschule-quelle.de
SUMMARY:Beratungstag/Elternsprechtag
DESCRIPTION:Unterrichtsfrei für alle Schülerinnen und Schüler ab 11:30 Uhr
URL:https://gesamtschule-quelle.de/veranstaltung/beratungstag-elternsprechtag/
END:VEVENT
BEGIN:VEVENT
DTSTART;TZID=Europe/Berlin:20221111T080000
DTEND;TZID=Europe/Berlin:20221111T170000
DTSTAMP:20260424T220258
CREATED:20221019T074257Z
LAST-MODIFIED:20221019T074257Z
UID:11498-1668153600-1668186000@gesamtschule-quelle.de
SUMMARY:Auswertungsgespräche der Potentialanalyse
DESCRIPTION:Termine jeweils für einzelne Schüler – Einladung beachten
URL:https://gesamtschule-quelle.de/veranstaltung/auswertungsgespraeche-der-potentialanalyse/
END:VEVENT
BEGIN:VEVENT
DTSTART;TZID=Europe/Berlin:20221114T113000
DTEND;TZID=Europe/Berlin:20221114T190000
DTSTAMP:20260424T220258
CREATED:20220818T082123Z
LAST-MODIFIED:20220818T082123Z
UID:11440-1668425400-1668452400@gesamtschule-quelle.de
SUMMARY:Beratungstag/Elternsprechtag
DESCRIPTION:Unterrichtsfrei für alle Schülerinnen und Schüler ab 11:30 Uhr
URL:https://gesamtschule-quelle.de/veranstaltung/beratungstag-elternsprechtag-2/
END:VEVENT
BEGIN:VEVENT
DTSTART;TZID=Europe/Berlin:20221116T190000
DTEND;TZID=Europe/Berlin:20221116T190000
DTSTAMP:20260424T220258
CREATED:20221020T074942Z
LAST-MODIFIED:20221020T075031Z
UID:11508-1668625200-1668625200@gesamtschule-quelle.de
SUMMARY:Infoabend neuer Jahrgang 5 - für Grundschuleltern
DESCRIPTION:Informationen und alles Wissenswerte über die GSQ
URL:https://gesamtschule-quelle.de/veranstaltung/infoabend-neuer-jahrgang-5-fuer-grundschuleltern/
END:VEVENT
END:VCALENDAR