BEGIN:VCALENDAR
VERSION:2.0
PRODID:-//GesamtSchule Quelle - ECPv6.15.20//NONSGML v1.0//EN
CALSCALE:GREGORIAN
METHOD:PUBLISH
X-ORIGINAL-URL:https://gesamtschule-quelle.de
X-WR-CALDESC:Veranstaltungen für GesamtSchule Quelle
REFRESH-INTERVAL;VALUE=DURATION:PT1H
X-Robots-Tag:noindex
X-PUBLISHED-TTL:PT1H
BEGIN:VTIMEZONE
TZID:Europe/Berlin
BEGIN:DAYLIGHT
TZOFFSETFROM:+0100
TZOFFSETTO:+0200
TZNAME:CEST
DTSTART:20220327T010000
END:DAYLIGHT
BEGIN:STANDARD
TZOFFSETFROM:+0200
TZOFFSETTO:+0100
TZNAME:CET
DTSTART:20221030T010000
END:STANDARD
BEGIN:DAYLIGHT
TZOFFSETFROM:+0100
TZOFFSETTO:+0200
TZNAME:CEST
DTSTART:20230326T010000
END:DAYLIGHT
BEGIN:STANDARD
TZOFFSETFROM:+0200
TZOFFSETTO:+0100
TZNAME:CET
DTSTART:20231029T010000
END:STANDARD
BEGIN:DAYLIGHT
TZOFFSETFROM:+0100
TZOFFSETTO:+0200
TZNAME:CEST
DTSTART:20240331T010000
END:DAYLIGHT
BEGIN:STANDARD
TZOFFSETFROM:+0200
TZOFFSETTO:+0100
TZNAME:CET
DTSTART:20241027T010000
END:STANDARD
END:VTIMEZONE
BEGIN:VEVENT
DTSTART;TZID=Europe/Berlin:20230118T190000
DTEND;TZID=Europe/Berlin:20230118T190000
DTSTAMP:20260424T191745
CREATED:20221020T075424Z
LAST-MODIFIED:20221020T075424Z
UID:11511-1674068400-1674068400@gesamtschule-quelle.de
SUMMARY:Infoabend für die Oberstufe - Für alle Interessierten der 10. Jahrgangsstufe
DESCRIPTION:Alles Wissenswertes rund um die Oberstufe an der GSQ
URL:https://gesamtschule-quelle.de/veranstaltung/infoabend-fuer-die-oberstufe-fuer-alle-interessierten-der-10-jahrgangsstufe/
END:VEVENT
BEGIN:VEVENT
DTSTART;TZID=Europe/Berlin:20230120T113000
DTEND;TZID=Europe/Berlin:20230120T170000
DTSTAMP:20260424T191745
CREATED:20220818T082504Z
LAST-MODIFIED:20220818T082504Z
UID:11446-1674214200-1674234000@gesamtschule-quelle.de
SUMMARY:Ausgabe der Halbjahreszeugnisse
DESCRIPTION:Unterrichtsende nach der 4. Stunde
URL:https://gesamtschule-quelle.de/veranstaltung/ausgabe-der-halbjahreszeugnisse/
END:VEVENT
BEGIN:VEVENT
DTSTART;TZID=Europe/Berlin:20230123T080000
DTEND;TZID=Europe/Berlin:20230123T170000
DTSTAMP:20260424T191745
CREATED:20220818T082613Z
LAST-MODIFIED:20220818T082613Z
UID:11448-1674460800-1674493200@gesamtschule-quelle.de
SUMMARY:SchiLF
DESCRIPTION:Schulinterne Lehrerfortbildung – Unterrichtsfrei für alle Schülerinnen und Schüler
URL:https://gesamtschule-quelle.de/veranstaltung/schilf-2/
END:VEVENT
BEGIN:VEVENT
DTSTART;TZID=Europe/Berlin:20230124T183000
DTEND;TZID=Europe/Berlin:20230124T200000
DTSTAMP:20260424T191745
CREATED:20230116T114655Z
LAST-MODIFIED:20230116T114805Z
UID:11571-1674585000-1674590400@gesamtschule-quelle.de
SUMMARY:Themen-Elternabend
DESCRIPTION:Elternabend zum Thema „Sexualisierte Gewalt im Internet“ \nEinladungen zu diesem Abend haben Sie bereits über die Klassenpflegschaften erhalten.
URL:https://gesamtschule-quelle.de/veranstaltung/themen-elternabend/
END:VEVENT
END:VCALENDAR