BEGIN:VCALENDAR
VERSION:2.0
PRODID:-//GesamtSchule Quelle - ECPv6.15.20//NONSGML v1.0//EN
CALSCALE:GREGORIAN
METHOD:PUBLISH
X-WR-CALNAME:GesamtSchule Quelle
X-ORIGINAL-URL:https://gesamtschule-quelle.de
X-WR-CALDESC:Veranstaltungen für GesamtSchule Quelle
REFRESH-INTERVAL;VALUE=DURATION:PT1H
X-Robots-Tag:noindex
X-PUBLISHED-TTL:PT1H
BEGIN:VTIMEZONE
TZID:Europe/Berlin
BEGIN:DAYLIGHT
TZOFFSETFROM:+0100
TZOFFSETTO:+0200
TZNAME:CEST
DTSTART:20220327T010000
END:DAYLIGHT
BEGIN:STANDARD
TZOFFSETFROM:+0200
TZOFFSETTO:+0100
TZNAME:CET
DTSTART:20221030T010000
END:STANDARD
BEGIN:DAYLIGHT
TZOFFSETFROM:+0100
TZOFFSETTO:+0200
TZNAME:CEST
DTSTART:20230326T010000
END:DAYLIGHT
BEGIN:STANDARD
TZOFFSETFROM:+0200
TZOFFSETTO:+0100
TZNAME:CET
DTSTART:20231029T010000
END:STANDARD
BEGIN:DAYLIGHT
TZOFFSETFROM:+0100
TZOFFSETTO:+0200
TZNAME:CEST
DTSTART:20240331T010000
END:DAYLIGHT
BEGIN:STANDARD
TZOFFSETFROM:+0200
TZOFFSETTO:+0100
TZNAME:CET
DTSTART:20241027T010000
END:STANDARD
END:VTIMEZONE
BEGIN:VEVENT
DTSTART;TZID=Europe/Berlin:20230531T080000
DTEND;TZID=Europe/Berlin:20230616T170000
DTSTAMP:20260424T123401
CREATED:20230330T124628Z
LAST-MODIFIED:20230330T124628Z
UID:11761-1685520000-1686934800@gesamtschule-quelle.de
SUMMARY:Praktikum JG9
DESCRIPTION:
URL:https://gesamtschule-quelle.de/veranstaltung/praktikum-jg9/
END:VEVENT
BEGIN:VEVENT
DTSTART;TZID=Europe/Berlin:20230601T190000
DTEND;TZID=Europe/Berlin:20230601T190000
DTSTAMP:20260424T123401
CREATED:20230508T055934Z
LAST-MODIFIED:20230508T055934Z
UID:11782-1685646000-1685646000@gesamtschule-quelle.de
SUMMARY:Schulkonferenz
DESCRIPTION:Bitte gesonderte Einladung beachten!
URL:https://gesamtschule-quelle.de/veranstaltung/schulkonferenz-7/
END:VEVENT
BEGIN:VEVENT
DTSTART;TZID=Europe/Berlin:20230605T080000
DTEND;TZID=Europe/Berlin:20230620T170000
DTSTAMP:20260424T123401
CREATED:20230330T124516Z
LAST-MODIFIED:20230330T124516Z
UID:11759-1685952000-1687280400@gesamtschule-quelle.de
SUMMARY:Sozialpraktikum JG12
DESCRIPTION:
URL:https://gesamtschule-quelle.de/veranstaltung/sozialpraktikum-jg12/
END:VEVENT
BEGIN:VEVENT
DTSTART;TZID=Europe/Berlin:20230607T100000
DTEND;TZID=Europe/Berlin:20230607T160000
DTSTAMP:20260424T123401
CREATED:20221206T114149Z
LAST-MODIFIED:20221206T114149Z
UID:11550-1686132000-1686153600@gesamtschule-quelle.de
SUMMARY:Jahrgangsturnier JG7
DESCRIPTION:Termin für die 7. Jahrgangsstufe
URL:https://gesamtschule-quelle.de/veranstaltung/jahrgangsturnier-jg7/
END:VEVENT
BEGIN:VEVENT
DTSTART;TZID=Europe/Berlin:20230608T080000
DTEND;TZID=Europe/Berlin:20230608T170000
DTSTAMP:20260424T123401
CREATED:20230517T094728Z
LAST-MODIFIED:20230517T094728Z
UID:11802-1686211200-1686243600@gesamtschule-quelle.de
SUMMARY:Fronleichnam
DESCRIPTION:Feiertag in NRW
URL:https://gesamtschule-quelle.de/veranstaltung/fronleichnam/
END:VEVENT
BEGIN:VEVENT
DTSTART;TZID=Europe/Berlin:20230609T080000
DTEND;TZID=Europe/Berlin:20230609T170000
DTSTAMP:20260424T123401
CREATED:20230127T123839Z
LAST-MODIFIED:20230127T123839Z
UID:11642-1686297600-1686330000@gesamtschule-quelle.de
SUMMARY:Studientag
DESCRIPTION:Studientag für alle Schülerinnen und Schüler\, die nicht im Praktikum sind.
URL:https://gesamtschule-quelle.de/veranstaltung/studientag/
END:VEVENT
BEGIN:VEVENT
DTSTART;TZID=Europe/Berlin:20230614T080000
DTEND;TZID=Europe/Berlin:20230614T160000
DTSTAMP:20260424T123401
CREATED:20230124T093611Z
LAST-MODIFIED:20230124T093620Z
UID:11615-1686729600-1686758400@gesamtschule-quelle.de
SUMMARY:Betriebserkundung JG 8
DESCRIPTION:Ganztägiger Termin für die 8. Jahrgangsstufe
URL:https://gesamtschule-quelle.de/veranstaltung/betriebserkundung-jg-8/
END:VEVENT
BEGIN:VEVENT
DTSTART;TZID=Europe/Berlin:20230615T080000
DTEND;TZID=Europe/Berlin:20230619T170000
DTSTAMP:20260424T123401
CREATED:20230330T124731Z
LAST-MODIFIED:20230330T124731Z
UID:11763-1686816000-1687194000@gesamtschule-quelle.de
SUMMARY:Praktikum JG8
DESCRIPTION:
URL:https://gesamtschule-quelle.de/veranstaltung/praktikum-jg8/
END:VEVENT
END:VCALENDAR