BEGIN:VCALENDAR
VERSION:2.0
PRODID:-//GesamtSchule Quelle - ECPv6.15.20//NONSGML v1.0//EN
CALSCALE:GREGORIAN
METHOD:PUBLISH
X-ORIGINAL-URL:https://gesamtschule-quelle.de
X-WR-CALDESC:Veranstaltungen für GesamtSchule Quelle
REFRESH-INTERVAL;VALUE=DURATION:PT1H
X-Robots-Tag:noindex
X-PUBLISHED-TTL:PT1H
BEGIN:VTIMEZONE
TZID:Europe/Berlin
BEGIN:DAYLIGHT
TZOFFSETFROM:+0100
TZOFFSETTO:+0200
TZNAME:CEST
DTSTART:20220327T010000
END:DAYLIGHT
BEGIN:STANDARD
TZOFFSETFROM:+0200
TZOFFSETTO:+0100
TZNAME:CET
DTSTART:20221030T010000
END:STANDARD
BEGIN:DAYLIGHT
TZOFFSETFROM:+0100
TZOFFSETTO:+0200
TZNAME:CEST
DTSTART:20230326T010000
END:DAYLIGHT
BEGIN:STANDARD
TZOFFSETFROM:+0200
TZOFFSETTO:+0100
TZNAME:CET
DTSTART:20231029T010000
END:STANDARD
BEGIN:DAYLIGHT
TZOFFSETFROM:+0100
TZOFFSETTO:+0200
TZNAME:CEST
DTSTART:20240331T010000
END:DAYLIGHT
BEGIN:STANDARD
TZOFFSETFROM:+0200
TZOFFSETTO:+0100
TZNAME:CET
DTSTART:20241027T010000
END:STANDARD
BEGIN:DAYLIGHT
TZOFFSETFROM:+0100
TZOFFSETTO:+0200
TZNAME:CEST
DTSTART:20250330T010000
END:DAYLIGHT
BEGIN:STANDARD
TZOFFSETFROM:+0200
TZOFFSETTO:+0100
TZNAME:CET
DTSTART:20251026T010000
END:STANDARD
END:VTIMEZONE
BEGIN:VEVENT
DTSTART;TZID=Europe/Berlin:20231221T080000
DTEND;TZID=Europe/Berlin:20240105T170000
DTSTAMP:20260424T024348
CREATED:20231023T100551Z
LAST-MODIFIED:20231023T100551Z
UID:11896-1703145600-1704474000@gesamtschule-quelle.de
SUMMARY:Weihnachtsferien
DESCRIPTION:
URL:https://gesamtschule-quelle.de/veranstaltung/weihnachtsferien/
END:VEVENT
BEGIN:VEVENT
DTSTART;TZID=Europe/Berlin:20240117T190000
DTEND;TZID=Europe/Berlin:20240117T190000
DTSTAMP:20260424T024348
CREATED:20231023T100824Z
LAST-MODIFIED:20231023T100824Z
UID:11898-1705518000-1705518000@gesamtschule-quelle.de
SUMMARY:Informationsabend Oberstufe
DESCRIPTION:Dieser Abend richtet sich an Schülerinnen und Schüler aller 10. Klassen in und um Bielefeld sowie deren Eltern \, die gerne die gymnasiale Oberstufe der GSQ besuchen möchten.
URL:https://gesamtschule-quelle.de/veranstaltung/informationsabend-oberstufe/
END:VEVENT
BEGIN:VEVENT
DTSTART;TZID=Europe/Berlin:20240126T080000
DTEND;TZID=Europe/Berlin:20240126T170000
DTSTAMP:20260424T024348
CREATED:20231023T100906Z
LAST-MODIFIED:20231023T100906Z
UID:11900-1706256000-1706288400@gesamtschule-quelle.de
SUMMARY:Halbjahreszeugnisse
DESCRIPTION:
URL:https://gesamtschule-quelle.de/veranstaltung/halbjahreszeugnisse-3/
END:VEVENT
BEGIN:VEVENT
DTSTART;TZID=Europe/Berlin:20240129T080000
DTEND;TZID=Europe/Berlin:20240129T170000
DTSTAMP:20260424T024348
CREATED:20231023T100953Z
LAST-MODIFIED:20231023T100953Z
UID:11902-1706515200-1706547600@gesamtschule-quelle.de
SUMMARY:Schulinterner Lehrerfortbildungstag
DESCRIPTION:Unterrichtsfrei für alle Schülerinnen und Schüler
URL:https://gesamtschule-quelle.de/veranstaltung/schulinterner-lehrerfortbildungstag-4/
END:VEVENT
END:VCALENDAR