BEGIN:VCALENDAR
VERSION:2.0
PRODID:-//GesamtSchule Quelle - ECPv6.15.20//NONSGML v1.0//EN
CALSCALE:GREGORIAN
METHOD:PUBLISH
X-ORIGINAL-URL:https://gesamtschule-quelle.de
X-WR-CALDESC:Veranstaltungen für GesamtSchule Quelle
REFRESH-INTERVAL;VALUE=DURATION:PT1H
X-Robots-Tag:noindex
X-PUBLISHED-TTL:PT1H
BEGIN:VTIMEZONE
TZID:Europe/Berlin
BEGIN:DAYLIGHT
TZOFFSETFROM:+0100
TZOFFSETTO:+0200
TZNAME:CEST
DTSTART:20230326T010000
END:DAYLIGHT
BEGIN:STANDARD
TZOFFSETFROM:+0200
TZOFFSETTO:+0100
TZNAME:CET
DTSTART:20231029T010000
END:STANDARD
BEGIN:DAYLIGHT
TZOFFSETFROM:+0100
TZOFFSETTO:+0200
TZNAME:CEST
DTSTART:20240331T010000
END:DAYLIGHT
BEGIN:STANDARD
TZOFFSETFROM:+0200
TZOFFSETTO:+0100
TZNAME:CET
DTSTART:20241027T010000
END:STANDARD
BEGIN:DAYLIGHT
TZOFFSETFROM:+0100
TZOFFSETTO:+0200
TZNAME:CEST
DTSTART:20250330T010000
END:DAYLIGHT
BEGIN:STANDARD
TZOFFSETFROM:+0200
TZOFFSETTO:+0100
TZNAME:CET
DTSTART:20251026T010000
END:STANDARD
END:VTIMEZONE
BEGIN:VEVENT
DTSTART;TZID=Europe/Berlin:20240305T180000
DTEND;TZID=Europe/Berlin:20240305T180000
DTSTAMP:20260424T000320
CREATED:20240228T090403Z
LAST-MODIFIED:20240228T090403Z
UID:12085-1709661600-1709661600@gesamtschule-quelle.de
SUMMARY:Elternthemenabend
DESCRIPTION:Elternabend zum Thema „Sexualisierte Inhalte im Internet“ für interessierte Eltern aller Jahrgangsstufen
URL:https://gesamtschule-quelle.de/veranstaltung/elternthemenabend/
END:VEVENT
BEGIN:VEVENT
DTSTART;TZID=Europe/Berlin:20240307T133000
DTEND;TZID=Europe/Berlin:20240307T160000
DTSTAMP:20260424T000320
CREATED:20240223T061806Z
LAST-MODIFIED:20240223T061806Z
UID:12041-1709818200-1709827200@gesamtschule-quelle.de
SUMMARY:Handwerkermarkt JG8
DESCRIPTION:Veranstaltung für JG 8 – Handwerksbetriebe stellen sich vor
URL:https://gesamtschule-quelle.de/veranstaltung/handwerkermarkt-jg8/
END:VEVENT
BEGIN:VEVENT
DTSTART;TZID=Europe/Berlin:20240314T193000
DTEND;TZID=Europe/Berlin:20240314T220000
DTSTAMP:20260424T000320
CREATED:20240223T061955Z
LAST-MODIFIED:20240226T130418Z
UID:12043-1710444600-1710453600@gesamtschule-quelle.de
SUMMARY:Projektkurspräsentation
DESCRIPTION:Die Projektkurse des JG 13 stellen ihre Ergebnisse in der Mensa vor.
URL:https://gesamtschule-quelle.de/veranstaltung/projektkurspraesentation/
ATTACH;FMTTYPE=application/pdf:https://gesamtschule-quelle.de/wp-content/uploads/2024/02/PräsentationsabendProjektkurse24-1.pdf
END:VEVENT
BEGIN:VEVENT
DTSTART;TZID=Europe/Berlin:20240318T080000
DTEND;TZID=Europe/Berlin:20240318T170000
DTSTAMP:20260424T000320
CREATED:20240223T062034Z
LAST-MODIFIED:20240223T062034Z
UID:12045-1710748800-1710781200@gesamtschule-quelle.de
SUMMARY:Wandertag JG8
DESCRIPTION:
URL:https://gesamtschule-quelle.de/veranstaltung/wandertag-jg8/
END:VEVENT
BEGIN:VEVENT
DTSTART;TZID=Europe/Berlin:20240320T190000
DTEND;TZID=Europe/Berlin:20240320T210000
DTSTAMP:20260424T000320
CREATED:20240223T062158Z
LAST-MODIFIED:20240223T062158Z
UID:12047-1710961200-1710968400@gesamtschule-quelle.de
SUMMARY:2. Infoabend für den neuen JG11
DESCRIPTION:Informationsveranstaltung für alle Schülerinnen und Schüler\, die für den neuen JG11 angenommen wurden.
URL:https://gesamtschule-quelle.de/veranstaltung/2-infoabend-fuer-den-neuen-jg11/
END:VEVENT
BEGIN:VEVENT
DTSTART;TZID=Europe/Berlin:20240321T170000
DTEND;TZID=Europe/Berlin:20240321T170000
DTSTAMP:20260424T000320
CREATED:20240313T121822Z
LAST-MODIFIED:20240313T121910Z
UID:12112-1711040400-1711040400@gesamtschule-quelle.de
SUMMARY:Präsentation DG
DESCRIPTION:DG Plakat
URL:https://gesamtschule-quelle.de/veranstaltung/praesentation-dg/
END:VEVENT
BEGIN:VEVENT
DTSTART;TZID=Europe/Berlin:20240325T080000
DTEND;TZID=Europe/Berlin:20240405T170000
DTSTAMP:20260424T000320
CREATED:20231023T101345Z
LAST-MODIFIED:20231023T101345Z
UID:11908-1711353600-1712336400@gesamtschule-quelle.de
SUMMARY:Osterferien
DESCRIPTION:
URL:https://gesamtschule-quelle.de/veranstaltung/osterferien-4/
END:VEVENT
END:VCALENDAR