BEGIN:VCALENDAR
VERSION:2.0
PRODID:-//GesamtSchule Quelle - ECPv6.15.20//NONSGML v1.0//EN
CALSCALE:GREGORIAN
METHOD:PUBLISH
X-ORIGINAL-URL:https://gesamtschule-quelle.de
X-WR-CALDESC:Veranstaltungen für GesamtSchule Quelle
REFRESH-INTERVAL;VALUE=DURATION:PT1H
X-Robots-Tag:noindex
X-PUBLISHED-TTL:PT1H
BEGIN:VTIMEZONE
TZID:Europe/Berlin
BEGIN:DAYLIGHT
TZOFFSETFROM:+0100
TZOFFSETTO:+0200
TZNAME:CEST
DTSTART:20230326T010000
END:DAYLIGHT
BEGIN:STANDARD
TZOFFSETFROM:+0200
TZOFFSETTO:+0100
TZNAME:CET
DTSTART:20231029T010000
END:STANDARD
BEGIN:DAYLIGHT
TZOFFSETFROM:+0100
TZOFFSETTO:+0200
TZNAME:CEST
DTSTART:20240331T010000
END:DAYLIGHT
BEGIN:STANDARD
TZOFFSETFROM:+0200
TZOFFSETTO:+0100
TZNAME:CET
DTSTART:20241027T010000
END:STANDARD
BEGIN:DAYLIGHT
TZOFFSETFROM:+0100
TZOFFSETTO:+0200
TZNAME:CEST
DTSTART:20250330T010000
END:DAYLIGHT
BEGIN:STANDARD
TZOFFSETFROM:+0200
TZOFFSETTO:+0100
TZNAME:CET
DTSTART:20251026T010000
END:STANDARD
END:VTIMEZONE
BEGIN:VEVENT
DTSTART;TZID=Europe/Berlin:20240325T080000
DTEND;TZID=Europe/Berlin:20240405T170000
DTSTAMP:20260423T224548
CREATED:20231023T101345Z
LAST-MODIFIED:20231023T101345Z
UID:11908-1711353600-1712336400@gesamtschule-quelle.de
SUMMARY:Osterferien
DESCRIPTION:
URL:https://gesamtschule-quelle.de/veranstaltung/osterferien-4/
END:VEVENT
BEGIN:VEVENT
DTSTART;TZID=Europe/Berlin:20240416T150000
DTEND;TZID=Europe/Berlin:20240416T170000
DTSTAMP:20260423T224548
CREATED:20240116T115215Z
LAST-MODIFIED:20240116T115215Z
UID:12000-1713279600-1713286800@gesamtschule-quelle.de
SUMMARY:Fachkonferenz 3
DESCRIPTION:Fachkonferenzen Arbeitslehre\, Darstellen und Gestalten\, Gemeinsames Lernen und Religion
URL:https://gesamtschule-quelle.de/veranstaltung/fachkonferenz-3/
END:VEVENT
BEGIN:VEVENT
DTSTART;TZID=Europe/Berlin:20240418T150000
DTEND;TZID=Europe/Berlin:20240418T180000
DTSTAMP:20260423T224548
CREATED:20240223T062348Z
LAST-MODIFIED:20240223T062348Z
UID:12049-1713452400-1713463200@gesamtschule-quelle.de
SUMMARY:Beratungstag
DESCRIPTION:Bitte beachten Sie die Informationen der Klassenlehrer.
URL:https://gesamtschule-quelle.de/veranstaltung/beratungstag-10/
END:VEVENT
BEGIN:VEVENT
DTSTART;TZID=Europe/Berlin:20240422T150000
DTEND;TZID=Europe/Berlin:20240422T180000
DTSTAMP:20260423T224548
CREATED:20240223T062441Z
LAST-MODIFIED:20240223T062517Z
UID:12051-1713798000-1713808800@gesamtschule-quelle.de
SUMMARY:Beratungstag
DESCRIPTION:Bitte beachten Sie die Informationen der Klassenlehrer.
URL:https://gesamtschule-quelle.de/veranstaltung/beratungstag-11/
END:VEVENT
BEGIN:VEVENT
DTSTART;TZID=Europe/Berlin:20240423T150000
DTEND;TZID=Europe/Berlin:20240423T170000
DTSTAMP:20260423T224548
CREATED:20240410T055240Z
LAST-MODIFIED:20240410T055240Z
UID:12137-1713884400-1713891600@gesamtschule-quelle.de
SUMMARY:Fachkonferenz 4
DESCRIPTION:Fachkonferenzen der Fächer Gesellschaftslehre\, Sport\, Kunst und Musik \nEinladungen beachten
URL:https://gesamtschule-quelle.de/veranstaltung/fachkonferenz-4-2/
END:VEVENT
END:VCALENDAR