BEGIN:VCALENDAR
VERSION:2.0
PRODID:-//GesamtSchule Quelle - ECPv6.15.20//NONSGML v1.0//EN
CALSCALE:GREGORIAN
METHOD:PUBLISH
X-ORIGINAL-URL:https://gesamtschule-quelle.de
X-WR-CALDESC:Veranstaltungen für GesamtSchule Quelle
REFRESH-INTERVAL;VALUE=DURATION:PT1H
X-Robots-Tag:noindex
X-PUBLISHED-TTL:PT1H
BEGIN:VTIMEZONE
TZID:Europe/Berlin
BEGIN:DAYLIGHT
TZOFFSETFROM:+0100
TZOFFSETTO:+0200
TZNAME:CEST
DTSTART:20230326T010000
END:DAYLIGHT
BEGIN:STANDARD
TZOFFSETFROM:+0200
TZOFFSETTO:+0100
TZNAME:CET
DTSTART:20231029T010000
END:STANDARD
BEGIN:DAYLIGHT
TZOFFSETFROM:+0100
TZOFFSETTO:+0200
TZNAME:CEST
DTSTART:20240331T010000
END:DAYLIGHT
BEGIN:STANDARD
TZOFFSETFROM:+0200
TZOFFSETTO:+0100
TZNAME:CET
DTSTART:20241027T010000
END:STANDARD
BEGIN:DAYLIGHT
TZOFFSETFROM:+0100
TZOFFSETTO:+0200
TZNAME:CEST
DTSTART:20250330T010000
END:DAYLIGHT
BEGIN:STANDARD
TZOFFSETFROM:+0200
TZOFFSETTO:+0100
TZNAME:CET
DTSTART:20251026T010000
END:STANDARD
END:VTIMEZONE
BEGIN:VEVENT
DTSTART;TZID=Europe/Berlin:20240617T080000
DTEND;TZID=Europe/Berlin:20240702T170000
DTSTAMP:20260423T182929
CREATED:20240410T060042Z
LAST-MODIFIED:20240410T060042Z
UID:12144-1718611200-1719939600@gesamtschule-quelle.de
SUMMARY:Praktikum JG9
DESCRIPTION:Termin für den 9. Jahrgang
URL:https://gesamtschule-quelle.de/veranstaltung/praktikum-jg9-2/
END:VEVENT
BEGIN:VEVENT
DTSTART;TZID=Europe/Berlin:20240624T080000
DTEND;TZID=Europe/Berlin:20240704T170000
DTSTAMP:20260423T182929
CREATED:20240410T060237Z
LAST-MODIFIED:20240410T060301Z
UID:12146-1719216000-1720112400@gesamtschule-quelle.de
SUMMARY:Praktikum JG 12
DESCRIPTION:
URL:https://gesamtschule-quelle.de/veranstaltung/praktikum-jg-12/
END:VEVENT
END:VCALENDAR