BEGIN:VCALENDAR
VERSION:2.0
PRODID:-//GesamtSchule Quelle - ECPv6.15.20//NONSGML v1.0//EN
CALSCALE:GREGORIAN
METHOD:PUBLISH
X-ORIGINAL-URL:https://gesamtschule-quelle.de
X-WR-CALDESC:Veranstaltungen für GesamtSchule Quelle
REFRESH-INTERVAL;VALUE=DURATION:PT1H
X-Robots-Tag:noindex
X-PUBLISHED-TTL:PT1H
BEGIN:VTIMEZONE
TZID:Europe/Berlin
BEGIN:DAYLIGHT
TZOFFSETFROM:+0100
TZOFFSETTO:+0200
TZNAME:CEST
DTSTART:20230326T010000
END:DAYLIGHT
BEGIN:STANDARD
TZOFFSETFROM:+0200
TZOFFSETTO:+0100
TZNAME:CET
DTSTART:20231029T010000
END:STANDARD
BEGIN:DAYLIGHT
TZOFFSETFROM:+0100
TZOFFSETTO:+0200
TZNAME:CEST
DTSTART:20240331T010000
END:DAYLIGHT
BEGIN:STANDARD
TZOFFSETFROM:+0200
TZOFFSETTO:+0100
TZNAME:CET
DTSTART:20241027T010000
END:STANDARD
BEGIN:DAYLIGHT
TZOFFSETFROM:+0100
TZOFFSETTO:+0200
TZNAME:CEST
DTSTART:20250330T010000
END:DAYLIGHT
BEGIN:STANDARD
TZOFFSETFROM:+0200
TZOFFSETTO:+0100
TZNAME:CET
DTSTART:20251026T010000
END:STANDARD
END:VTIMEZONE
BEGIN:VEVENT
DTSTART;TZID=Europe/Berlin:20240828T190000
DTEND;TZID=Europe/Berlin:20240828T190000
DTSTAMP:20260423T165834
CREATED:20240827T054626Z
LAST-MODIFIED:20240827T054626Z
UID:12313-1724871600-1724871600@gesamtschule-quelle.de
SUMMARY:Pflegschaftsabend Jahrgang 8
DESCRIPTION:Bitte beachten Sie die Einladung der KlassenlehrerInnen.
URL:https://gesamtschule-quelle.de/veranstaltung/pflegschaftsabend-jahrgang-8/
END:VEVENT
BEGIN:VEVENT
DTSTART;TZID=Europe/Berlin:20240829T190000
DTEND;TZID=Europe/Berlin:20240829T190000
DTSTAMP:20260423T165834
CREATED:20240827T054732Z
LAST-MODIFIED:20240827T054732Z
UID:12315-1724958000-1724958000@gesamtschule-quelle.de
SUMMARY:Pflegschaftsabend Jahrgang 10
DESCRIPTION:Bitte beachten Sie die Einladung der KlassenlehrerInnen
URL:https://gesamtschule-quelle.de/veranstaltung/pflegschaftsabend-jahrgang-10/
END:VEVENT
BEGIN:VEVENT
DTSTART;TZID=Europe/Berlin:20240830T080000
DTEND;TZID=Europe/Berlin:20240830T130000
DTSTAMP:20260423T165834
CREATED:20240827T054850Z
LAST-MODIFIED:20240827T054850Z
UID:12317-1725004800-1725022800@gesamtschule-quelle.de
SUMMARY:Wandertag - Begrüßungsfest des Jahrgangs 5
DESCRIPTION:Großes Fest der 5. Klassen im Nordpark
URL:https://gesamtschule-quelle.de/veranstaltung/wandertag-begruessungsfest-des-jahrgangs-5/
END:VEVENT
END:VCALENDAR