BEGIN:VCALENDAR
VERSION:2.0
PRODID:-//GesamtSchule Quelle - ECPv6.15.20//NONSGML v1.0//EN
CALSCALE:GREGORIAN
METHOD:PUBLISH
X-WR-CALNAME:GesamtSchule Quelle
X-ORIGINAL-URL:https://gesamtschule-quelle.de
X-WR-CALDESC:Veranstaltungen für GesamtSchule Quelle
REFRESH-INTERVAL;VALUE=DURATION:PT1H
X-Robots-Tag:noindex
X-PUBLISHED-TTL:PT1H
BEGIN:VTIMEZONE
TZID:Europe/Berlin
BEGIN:DAYLIGHT
TZOFFSETFROM:+0100
TZOFFSETTO:+0200
TZNAME:CEST
DTSTART:20230326T010000
END:DAYLIGHT
BEGIN:STANDARD
TZOFFSETFROM:+0200
TZOFFSETTO:+0100
TZNAME:CET
DTSTART:20231029T010000
END:STANDARD
BEGIN:DAYLIGHT
TZOFFSETFROM:+0100
TZOFFSETTO:+0200
TZNAME:CEST
DTSTART:20240331T010000
END:DAYLIGHT
BEGIN:STANDARD
TZOFFSETFROM:+0200
TZOFFSETTO:+0100
TZNAME:CET
DTSTART:20241027T010000
END:STANDARD
BEGIN:DAYLIGHT
TZOFFSETFROM:+0100
TZOFFSETTO:+0200
TZNAME:CEST
DTSTART:20250330T010000
END:DAYLIGHT
BEGIN:STANDARD
TZOFFSETFROM:+0200
TZOFFSETTO:+0100
TZNAME:CET
DTSTART:20251026T010000
END:STANDARD
END:VTIMEZONE
BEGIN:VEVENT
DTSTART;TZID=Europe/Berlin:20240902T080000
DTEND;TZID=Europe/Berlin:20240906T170000
DTSTAMP:20260423T153216
CREATED:20240827T055018Z
LAST-MODIFIED:20240827T055018Z
UID:12319-1725264000-1725642000@gesamtschule-quelle.de
SUMMARY:Klassenfahrtenwoche
DESCRIPTION:Die Klassen 6\, 8\, 10 und 12 sind auf Klassenfahrt unterwegs.
URL:https://gesamtschule-quelle.de/veranstaltung/klassenfahrtenwoche/
END:VEVENT
BEGIN:VEVENT
DTSTART;TZID=Europe/Berlin:20240903T190000
DTEND;TZID=Europe/Berlin:20240903T190000
DTSTAMP:20260423T153216
CREATED:20240827T055120Z
LAST-MODIFIED:20240827T055120Z
UID:12321-1725390000-1725390000@gesamtschule-quelle.de
SUMMARY:Pflegschaftsabend Jahrgang 7
DESCRIPTION:Bitte beachten Sie die Einladung der KlassenlehrerInnen.
URL:https://gesamtschule-quelle.de/veranstaltung/pflegschaftsabend-jahrgang-7/
END:VEVENT
BEGIN:VEVENT
DTSTART;TZID=Europe/Berlin:20240904T080000
DTEND;TZID=Europe/Berlin:20240904T170000
DTSTAMP:20260423T153216
CREATED:20240827T055225Z
LAST-MODIFIED:20240827T055225Z
UID:12323-1725436800-1725469200@gesamtschule-quelle.de
SUMMARY:Wandertag Jahrgang 9
DESCRIPTION:
URL:https://gesamtschule-quelle.de/veranstaltung/wandertag-jahrgang-9/
END:VEVENT
BEGIN:VEVENT
DTSTART;TZID=Europe/Berlin:20240904T190000
DTEND;TZID=Europe/Berlin:20240904T190000
DTSTAMP:20260423T153216
CREATED:20240827T055318Z
LAST-MODIFIED:20240827T055318Z
UID:12325-1725476400-1725476400@gesamtschule-quelle.de
SUMMARY:Pflegschaftsabend Jahrgang 9
DESCRIPTION:Bitte beachten Sie die Einladung der KlassenlehrerInnen
URL:https://gesamtschule-quelle.de/veranstaltung/pflegschaftsabend-jahrgang-9/
END:VEVENT
BEGIN:VEVENT
DTSTART;TZID=Europe/Berlin:20240909T180000
DTEND;TZID=Europe/Berlin:20240909T190000
DTSTAMP:20260423T153216
CREATED:20240827T055408Z
LAST-MODIFIED:20240829T180004Z
UID:12327-1725904800-1725908400@gesamtschule-quelle.de
SUMMARY:Pflegschaftsabend Jahrgang 11
DESCRIPTION:Bitte beachten Sie die Anfangszeit und die Einladung der Jahrgangsleitung.
URL:https://gesamtschule-quelle.de/veranstaltung/pflegschaftsabend-jahrgang-11/
END:VEVENT
BEGIN:VEVENT
DTSTART;TZID=Europe/Berlin:20240911T080000
DTEND;TZID=Europe/Berlin:20240911T170000
DTSTAMP:20260423T153216
CREATED:20240904T110134Z
LAST-MODIFIED:20240904T110134Z
UID:12353-1726041600-1726074000@gesamtschule-quelle.de
SUMMARY:Mädchenprojekt JG8
DESCRIPTION:
URL:https://gesamtschule-quelle.de/veranstaltung/maedchenprojekt-jg8/
END:VEVENT
BEGIN:VEVENT
DTSTART;TZID=Europe/Berlin:20240913T080000
DTEND;TZID=Europe/Berlin:20240913T170000
DTSTAMP:20260423T153216
CREATED:20240904T110326Z
LAST-MODIFIED:20240904T110326Z
UID:12355-1726214400-1726246800@gesamtschule-quelle.de
SUMMARY:Mädchenprojekt JG8
DESCRIPTION:
URL:https://gesamtschule-quelle.de/veranstaltung/maedchenprojekt-jg8-2/
END:VEVENT
BEGIN:VEVENT
DTSTART;TZID=Europe/Berlin:20240917T150000
DTEND;TZID=Europe/Berlin:20240917T170000
DTSTAMP:20260423T153216
CREATED:20240904T110524Z
LAST-MODIFIED:20240904T110636Z
UID:12357-1726585200-1726592400@gesamtschule-quelle.de
SUMMARY:Fachkonferenzen
DESCRIPTION:Fachkonferenzen der Fächer Französisch\, Informatik\, Latein\, Philosophie und aus organisatorischen Gründen auch GL \nBitte die Einladungen der einzelnen Fachkonferenzen beachten!
URL:https://gesamtschule-quelle.de/veranstaltung/fachkonferenzen/
END:VEVENT
BEGIN:VEVENT
DTSTART;TZID=Europe/Berlin:20240919T080000
DTEND;TZID=Europe/Berlin:20240919T170000
DTSTAMP:20260423T153216
CREATED:20240904T110853Z
LAST-MODIFIED:20240904T110853Z
UID:12362-1726732800-1726765200@gesamtschule-quelle.de
SUMMARY:DASA JG9
DESCRIPTION:Ein Termin für die Schülerinnen und Schüler des 9. Jahrgangs.
URL:https://gesamtschule-quelle.de/veranstaltung/dasa-jg9-2/
END:VEVENT
BEGIN:VEVENT
DTSTART;TZID=Europe/Berlin:20240919T190000
DTEND;TZID=Europe/Berlin:20240919T190000
DTSTAMP:20260423T153216
CREATED:20240904T110743Z
LAST-MODIFIED:20240905T083257Z
UID:12360-1726772400-1726772400@gesamtschule-quelle.de
SUMMARY:Schulpflegschaftssitzung
DESCRIPTION:Bitte die Einladung beachten!
URL:https://gesamtschule-quelle.de/veranstaltung/schulpflegschaftssitzung/
END:VEVENT
BEGIN:VEVENT
DTSTART;TZID=Europe/Berlin:20240923T080000
DTEND;TZID=Europe/Berlin:20240927T170000
DTSTAMP:20260423T153216
CREATED:20240904T110958Z
LAST-MODIFIED:20240904T111102Z
UID:12364-1727078400-1727456400@gesamtschule-quelle.de
SUMMARY:Austausch mit Polen
DESCRIPTION:Besuch der GSQ durch die polnische Partnerschule
URL:https://gesamtschule-quelle.de/veranstaltung/austausch-mit-polen/
END:VEVENT
END:VCALENDAR