BEGIN:VCALENDAR
VERSION:2.0
PRODID:-//GesamtSchule Quelle - ECPv6.15.20//NONSGML v1.0//EN
CALSCALE:GREGORIAN
METHOD:PUBLISH
X-ORIGINAL-URL:https://gesamtschule-quelle.de
X-WR-CALDESC:Veranstaltungen für GesamtSchule Quelle
REFRESH-INTERVAL;VALUE=DURATION:PT1H
X-Robots-Tag:noindex
X-PUBLISHED-TTL:PT1H
BEGIN:VTIMEZONE
TZID:Europe/Berlin
BEGIN:DAYLIGHT
TZOFFSETFROM:+0100
TZOFFSETTO:+0200
TZNAME:CEST
DTSTART:20230326T010000
END:DAYLIGHT
BEGIN:STANDARD
TZOFFSETFROM:+0200
TZOFFSETTO:+0100
TZNAME:CET
DTSTART:20231029T010000
END:STANDARD
BEGIN:DAYLIGHT
TZOFFSETFROM:+0100
TZOFFSETTO:+0200
TZNAME:CEST
DTSTART:20240331T010000
END:DAYLIGHT
BEGIN:STANDARD
TZOFFSETFROM:+0200
TZOFFSETTO:+0100
TZNAME:CET
DTSTART:20241027T010000
END:STANDARD
BEGIN:DAYLIGHT
TZOFFSETFROM:+0100
TZOFFSETTO:+0200
TZNAME:CEST
DTSTART:20250330T010000
END:DAYLIGHT
BEGIN:STANDARD
TZOFFSETFROM:+0200
TZOFFSETTO:+0100
TZNAME:CET
DTSTART:20251026T010000
END:STANDARD
END:VTIMEZONE
BEGIN:VEVENT
DTSTART;TZID=Europe/Berlin:20241003T080000
DTEND;TZID=Europe/Berlin:20241003T170000
DTSTAMP:20260423T135508
CREATED:20240904T111221Z
LAST-MODIFIED:20240904T111221Z
UID:12367-1727942400-1727974800@gesamtschule-quelle.de
SUMMARY:Tag der Deutschen Einheit
DESCRIPTION:Feiertag
URL:https://gesamtschule-quelle.de/veranstaltung/tag-der-deutschen-einheit/
END:VEVENT
BEGIN:VEVENT
DTSTART;VALUE=DATE:20241004
DTEND;VALUE=DATE:20241005
DTSTAMP:20260423T135508
CREATED:20240604T093219Z
LAST-MODIFIED:20240604T093219Z
UID:12198-1728000000-1728086399@gesamtschule-quelle.de
SUMMARY:Beweglicher Ferientag
DESCRIPTION:
URL:https://gesamtschule-quelle.de/veranstaltung/beweglicher-ferientag-11/
END:VEVENT
BEGIN:VEVENT
DTSTART;TZID=Europe/Berlin:20241007T080000
DTEND;TZID=Europe/Berlin:20241007T170000
DTSTAMP:20260423T135508
CREATED:20240904T111342Z
LAST-MODIFIED:20240904T111342Z
UID:12369-1728288000-1728320400@gesamtschule-quelle.de
SUMMARY:Kulturwandertag JG 5 bis 7
DESCRIPTION:
URL:https://gesamtschule-quelle.de/veranstaltung/kulturwandertag-jg-5-bis-7/
END:VEVENT
BEGIN:VEVENT
DTSTART;TZID=Europe/Berlin:20241014T080000
DTEND;TZID=Europe/Berlin:20241025T170000
DTSTAMP:20260423T135508
CREATED:20240905T114348Z
LAST-MODIFIED:20240905T114348Z
UID:12373-1728892800-1729875600@gesamtschule-quelle.de
SUMMARY:Herbstferien
DESCRIPTION:
URL:https://gesamtschule-quelle.de/veranstaltung/herbstferien/
END:VEVENT
BEGIN:VEVENT
DTSTART;TZID=Europe/Berlin:20241028T080000
DTEND;TZID=Europe/Berlin:20241108T170000
DTSTAMP:20260423T135508
CREATED:20240904T111523Z
LAST-MODIFIED:20240904T111523Z
UID:12371-1730102400-1731085200@gesamtschule-quelle.de
SUMMARY:Schülerbetriebspraktikum JG9
DESCRIPTION:Termin für alle Schülerinnen und Schüler des 9. Jahrgangs
URL:https://gesamtschule-quelle.de/veranstaltung/schuelerbetriebspraktikum-jg9/
END:VEVENT
END:VCALENDAR