BEGIN:VCALENDAR
VERSION:2.0
PRODID:-//GesamtSchule Quelle - ECPv6.15.20//NONSGML v1.0//EN
CALSCALE:GREGORIAN
METHOD:PUBLISH
X-WR-CALNAME:GesamtSchule Quelle
X-ORIGINAL-URL:https://gesamtschule-quelle.de
X-WR-CALDESC:Veranstaltungen für GesamtSchule Quelle
REFRESH-INTERVAL;VALUE=DURATION:PT1H
X-Robots-Tag:noindex
X-PUBLISHED-TTL:PT1H
BEGIN:VTIMEZONE
TZID:Europe/Berlin
BEGIN:DAYLIGHT
TZOFFSETFROM:+0100
TZOFFSETTO:+0200
TZNAME:CEST
DTSTART:20240331T010000
END:DAYLIGHT
BEGIN:STANDARD
TZOFFSETFROM:+0200
TZOFFSETTO:+0100
TZNAME:CET
DTSTART:20241027T010000
END:STANDARD
BEGIN:DAYLIGHT
TZOFFSETFROM:+0100
TZOFFSETTO:+0200
TZNAME:CEST
DTSTART:20250330T010000
END:DAYLIGHT
BEGIN:STANDARD
TZOFFSETFROM:+0200
TZOFFSETTO:+0100
TZNAME:CET
DTSTART:20251026T010000
END:STANDARD
BEGIN:DAYLIGHT
TZOFFSETFROM:+0100
TZOFFSETTO:+0200
TZNAME:CEST
DTSTART:20260329T010000
END:DAYLIGHT
BEGIN:STANDARD
TZOFFSETFROM:+0200
TZOFFSETTO:+0100
TZNAME:CET
DTSTART:20261025T010000
END:STANDARD
END:VTIMEZONE
BEGIN:VEVENT
DTSTART;TZID=Europe/Berlin:20250207T100000
DTEND;TZID=Europe/Berlin:20250207T104500
DTSTAMP:20260423T084858
CREATED:20241129T111014Z
LAST-MODIFIED:20250113T153451Z
UID:12426-1738922400-1738925100@gesamtschule-quelle.de
SUMMARY:Halbjahreszeugnisse
DESCRIPTION:Der Unterricht endet um 10:45 Uhr
URL:https://gesamtschule-quelle.de/veranstaltung/halbjahreszeugnisse-4/
END:VEVENT
BEGIN:VEVENT
DTSTART;VALUE=DATE:20250210
DTEND;VALUE=DATE:20250211
DTSTAMP:20260423T084858
CREATED:20240604T093314Z
LAST-MODIFIED:20240604T093314Z
UID:12200-1739145600-1739231999@gesamtschule-quelle.de
SUMMARY:Beweglicher Ferientag
DESCRIPTION:
URL:https://gesamtschule-quelle.de/veranstaltung/beweglicher-ferientag-12/
END:VEVENT
BEGIN:VEVENT
DTSTART;TZID=Europe/Berlin:20250211T080000
DTEND;TZID=Europe/Berlin:20250211T170000
DTSTAMP:20260423T084858
CREATED:20241129T111135Z
LAST-MODIFIED:20241129T111135Z
UID:12428-1739260800-1739293200@gesamtschule-quelle.de
SUMMARY:SchiLF
DESCRIPTION:Schulinterner Lehrerfortbildungstag \nUnterrichtsfrei für alle Jahrgangsstufen!
URL:https://gesamtschule-quelle.de/veranstaltung/schilf-3/
END:VEVENT
BEGIN:VEVENT
DTSTART;TZID=Europe/Berlin:20250212T190000
DTEND;TZID=Europe/Berlin:20250212T190000
DTSTAMP:20260423T084858
CREATED:20241129T111322Z
LAST-MODIFIED:20250203T175124Z
UID:12430-1739386800-1739386800@gesamtschule-quelle.de
SUMMARY:Elternabend Jahrgang 6 - VERSCHOBEN auf den 26.2.25
DESCRIPTION:Dieser Abend findet am 26.2.25 statt.\nAn diesem Abend werden alle Eltern des 6. Jahrgangs über die Wahlpflichtfächer und die Aufteilung in E- und G-Kursen ab JG7 informiert.
URL:https://gesamtschule-quelle.de/veranstaltung/elternabend-jahrgang-6/
END:VEVENT
BEGIN:VEVENT
DTSTART;TZID=Europe/Berlin:20250218T190000
DTEND;TZID=Europe/Berlin:20250218T190000
DTSTAMP:20260423T084858
CREATED:20241129T111431Z
LAST-MODIFIED:20241129T111431Z
UID:12432-1739905200-1739905200@gesamtschule-quelle.de
SUMMARY:Elternabend JG8
DESCRIPTION:Bei diesem Elternabend werden Sie über die Berufsorientierungsbausteine an der GSQ informiert.
URL:https://gesamtschule-quelle.de/veranstaltung/elternabend-jg8-3/
END:VEVENT
BEGIN:VEVENT
DTSTART;TZID=Europe/Berlin:20250225T143000
DTEND;TZID=Europe/Berlin:20250225T170000
DTSTAMP:20260423T084858
CREATED:20241129T111818Z
LAST-MODIFIED:20241129T111818Z
UID:12436-1740493800-1740502800@gesamtschule-quelle.de
SUMMARY:Fachkonferenz V
DESCRIPTION:Es finden die Fachkonferenzen der Fächer Französisch\, Informatik\, Latein und Philosophie statt. \nBitte die Einladungen beachten.
URL:https://gesamtschule-quelle.de/veranstaltung/fachkonferenz-v/
END:VEVENT
BEGIN:VEVENT
DTSTART;TZID=Europe/Berlin:20250226T190000
DTEND;TZID=Europe/Berlin:20250226T190000
DTSTAMP:20260423T084858
CREATED:20241129T111528Z
LAST-MODIFIED:20241129T111528Z
UID:12434-1740596400-1740596400@gesamtschule-quelle.de
SUMMARY:Schulkonferenz
DESCRIPTION:Bitte Einladung beachten.
URL:https://gesamtschule-quelle.de/veranstaltung/schulkonferenz-9/
END:VEVENT
BEGIN:VEVENT
DTSTART;TZID=Europe/Berlin:20250226T190000
DTEND;TZID=Europe/Berlin:20250226T190000
DTSTAMP:20260423T084858
CREATED:20250203T175257Z
LAST-MODIFIED:20250203T175257Z
UID:12541-1740596400-1740596400@gesamtschule-quelle.de
SUMMARY:Elternabend JG6
DESCRIPTION:An diesem Abend werden alle Eltern des 6. Jahrgangs über die Wahlpflichtfächer und die Aufteilung in E- und G-Kursen ab JG7 informiert.
URL:https://gesamtschule-quelle.de/veranstaltung/elternabend-jg6/
END:VEVENT
END:VCALENDAR