BEGIN:VCALENDAR
VERSION:2.0
PRODID:-//GesamtSchule Quelle - ECPv6.15.20//NONSGML v1.0//EN
CALSCALE:GREGORIAN
METHOD:PUBLISH
X-ORIGINAL-URL:https://gesamtschule-quelle.de
X-WR-CALDESC:Veranstaltungen für GesamtSchule Quelle
REFRESH-INTERVAL;VALUE=DURATION:PT1H
X-Robots-Tag:noindex
X-PUBLISHED-TTL:PT1H
BEGIN:VTIMEZONE
TZID:Europe/Berlin
BEGIN:DAYLIGHT
TZOFFSETFROM:+0100
TZOFFSETTO:+0200
TZNAME:CEST
DTSTART:20240331T010000
END:DAYLIGHT
BEGIN:STANDARD
TZOFFSETFROM:+0200
TZOFFSETTO:+0100
TZNAME:CET
DTSTART:20241027T010000
END:STANDARD
BEGIN:DAYLIGHT
TZOFFSETFROM:+0100
TZOFFSETTO:+0200
TZNAME:CEST
DTSTART:20250330T010000
END:DAYLIGHT
BEGIN:STANDARD
TZOFFSETFROM:+0200
TZOFFSETTO:+0100
TZNAME:CET
DTSTART:20251026T010000
END:STANDARD
BEGIN:DAYLIGHT
TZOFFSETFROM:+0100
TZOFFSETTO:+0200
TZNAME:CEST
DTSTART:20260329T010000
END:DAYLIGHT
BEGIN:STANDARD
TZOFFSETFROM:+0200
TZOFFSETTO:+0100
TZNAME:CET
DTSTART:20261025T010000
END:STANDARD
END:VTIMEZONE
BEGIN:VEVENT
DTSTART;TZID=Europe/Berlin:20250605T190000
DTEND;TZID=Europe/Berlin:20250605T190000
DTSTAMP:20260423T024858
CREATED:20250310T122730Z
LAST-MODIFIED:20250310T122730Z
UID:12576-1749150000-1749150000@gesamtschule-quelle.de
SUMMARY:Schulkonferenz
DESCRIPTION:Bitte die Einladung beachten!
URL:https://gesamtschule-quelle.de/veranstaltung/schulkonferenz-10/
END:VEVENT
BEGIN:VEVENT
DTSTART;VALUE=DATE:20250610
DTEND;VALUE=DATE:20250611
DTSTAMP:20260423T024858
CREATED:20250113T154338Z
LAST-MODIFIED:20250113T154338Z
UID:12504-1749513600-1749599999@gesamtschule-quelle.de
SUMMARY:Pfingstferientag
DESCRIPTION:
URL:https://gesamtschule-quelle.de/veranstaltung/pfingstferientag/
END:VEVENT
BEGIN:VEVENT
DTSTART;VALUE=DATE:20250611
DTEND;VALUE=DATE:20250612
DTSTAMP:20260423T024858
CREATED:20250113T154312Z
LAST-MODIFIED:20250113T154312Z
UID:12502-1749600000-1749686399@gesamtschule-quelle.de
SUMMARY:SchiLF-Tag
DESCRIPTION:Studientag für alle Schülerinnen und Schüler \nFortbildungstag für Lehrerinnen und Lehrer
URL:https://gesamtschule-quelle.de/veranstaltung/schilf-tag-3/
END:VEVENT
BEGIN:VEVENT
DTSTART;VALUE=DATE:20250620
DTEND;VALUE=DATE:20250621
DTSTAMP:20260423T024858
CREATED:20240604T093539Z
LAST-MODIFIED:20240902T111901Z
UID:12204-1750377600-1750463999@gesamtschule-quelle.de
SUMMARY:Beweglicher Ferientag
DESCRIPTION:
URL:https://gesamtschule-quelle.de/veranstaltung/beweglicher-ferientag-14/
END:VEVENT
BEGIN:VEVENT
DTSTART;VALUE=DATE:20250620
DTEND;VALUE=DATE:20250621
DTSTAMP:20260423T024858
CREATED:20250113T154213Z
LAST-MODIFIED:20250113T154213Z
UID:12500-1750377600-1750463999@gesamtschule-quelle.de
SUMMARY:Beweglicher Ferientag
DESCRIPTION:
URL:https://gesamtschule-quelle.de/veranstaltung/beweglicher-ferientag-16/
END:VEVENT
BEGIN:VEVENT
DTSTART;TZID=Europe/Berlin:20250623T080000
DTEND;TZID=Europe/Berlin:20250708T170000
DTSTAMP:20260423T024858
CREATED:20250113T154436Z
LAST-MODIFIED:20250113T154436Z
UID:12506-1750665600-1751994000@gesamtschule-quelle.de
SUMMARY:Betriebspraktikum JG9
DESCRIPTION:
URL:https://gesamtschule-quelle.de/veranstaltung/betriebspraktikum-jg9/
END:VEVENT
BEGIN:VEVENT
DTSTART;TZID=Europe/Berlin:20250626T080000
DTEND;TZID=Europe/Berlin:20250709T170000
DTSTAMP:20260423T024858
CREATED:20250113T154514Z
LAST-MODIFIED:20250113T154514Z
UID:12508-1750924800-1752080400@gesamtschule-quelle.de
SUMMARY:Praktikum JG12
DESCRIPTION:
URL:https://gesamtschule-quelle.de/veranstaltung/praktikum-jg12/
END:VEVENT
END:VCALENDAR