BEGIN:VCALENDAR
VERSION:2.0
PRODID:-//GesamtSchule Quelle - ECPv6.15.20//NONSGML v1.0//EN
CALSCALE:GREGORIAN
METHOD:PUBLISH
X-WR-CALNAME:GesamtSchule Quelle
X-ORIGINAL-URL:https://gesamtschule-quelle.de
X-WR-CALDESC:Veranstaltungen für GesamtSchule Quelle
REFRESH-INTERVAL;VALUE=DURATION:PT1H
X-Robots-Tag:noindex
X-PUBLISHED-TTL:PT1H
BEGIN:VTIMEZONE
TZID:Europe/Berlin
BEGIN:DAYLIGHT
TZOFFSETFROM:+0100
TZOFFSETTO:+0200
TZNAME:CEST
DTSTART:20240331T010000
END:DAYLIGHT
BEGIN:STANDARD
TZOFFSETFROM:+0200
TZOFFSETTO:+0100
TZNAME:CET
DTSTART:20241027T010000
END:STANDARD
BEGIN:DAYLIGHT
TZOFFSETFROM:+0100
TZOFFSETTO:+0200
TZNAME:CEST
DTSTART:20250330T010000
END:DAYLIGHT
BEGIN:STANDARD
TZOFFSETFROM:+0200
TZOFFSETTO:+0100
TZNAME:CET
DTSTART:20251026T010000
END:STANDARD
BEGIN:DAYLIGHT
TZOFFSETFROM:+0100
TZOFFSETTO:+0200
TZNAME:CEST
DTSTART:20260329T010000
END:DAYLIGHT
BEGIN:STANDARD
TZOFFSETFROM:+0200
TZOFFSETTO:+0100
TZNAME:CET
DTSTART:20261025T010000
END:STANDARD
END:VTIMEZONE
BEGIN:VEVENT
DTSTART;TZID=Europe/Berlin:20250714T080000
DTEND;TZID=Europe/Berlin:20250826T170000
DTSTAMP:20260422T231914
CREATED:20250113T154738Z
LAST-MODIFIED:20250113T154738Z
UID:12514-1752480000-1756227600@gesamtschule-quelle.de
SUMMARY:Sommerferien
DESCRIPTION:
URL:https://gesamtschule-quelle.de/veranstaltung/sommerferien-3/
END:VEVENT
BEGIN:VEVENT
DTSTART;VALUE=DATE:20250827
DTEND;VALUE=DATE:20250828
DTSTAMP:20260422T231914
CREATED:20250701T054534Z
LAST-MODIFIED:20250701T054534Z
UID:12682-1756252800-1756339199@gesamtschule-quelle.de
SUMMARY:Erster Schultag JG 6 bis 13
DESCRIPTION:Unterrichtsende um 13:20 Uhr
URL:https://gesamtschule-quelle.de/veranstaltung/erster-schultag-jg-6-bis-13/
END:VEVENT
BEGIN:VEVENT
DTSTART;TZID=Europe/Berlin:20250828T100000
DTEND;TZID=Europe/Berlin:20250828T100000
DTSTAMP:20260422T231914
CREATED:20250701T054629Z
LAST-MODIFIED:20250701T054629Z
UID:12684-1756375200-1756375200@gesamtschule-quelle.de
SUMMARY:Erster Schultag JG 5
DESCRIPTION:Die Einschulungsfeier beginnt um 10 Uhr in der Mensa.
URL:https://gesamtschule-quelle.de/veranstaltung/erster-schultag-jg-5/
END:VEVENT
END:VCALENDAR