BEGIN:VCALENDAR
VERSION:2.0
PRODID:-//GesamtSchule Quelle - ECPv6.15.20//NONSGML v1.0//EN
CALSCALE:GREGORIAN
METHOD:PUBLISH
X-WR-CALNAME:GesamtSchule Quelle
X-ORIGINAL-URL:https://gesamtschule-quelle.de
X-WR-CALDESC:Veranstaltungen für GesamtSchule Quelle
REFRESH-INTERVAL;VALUE=DURATION:PT1H
X-Robots-Tag:noindex
X-PUBLISHED-TTL:PT1H
BEGIN:VTIMEZONE
TZID:Europe/Berlin
BEGIN:DAYLIGHT
TZOFFSETFROM:+0100
TZOFFSETTO:+0200
TZNAME:CEST
DTSTART:20240331T010000
END:DAYLIGHT
BEGIN:STANDARD
TZOFFSETFROM:+0200
TZOFFSETTO:+0100
TZNAME:CET
DTSTART:20241027T010000
END:STANDARD
BEGIN:DAYLIGHT
TZOFFSETFROM:+0100
TZOFFSETTO:+0200
TZNAME:CEST
DTSTART:20250330T010000
END:DAYLIGHT
BEGIN:STANDARD
TZOFFSETFROM:+0200
TZOFFSETTO:+0100
TZNAME:CET
DTSTART:20251026T010000
END:STANDARD
BEGIN:DAYLIGHT
TZOFFSETFROM:+0100
TZOFFSETTO:+0200
TZNAME:CEST
DTSTART:20260329T010000
END:DAYLIGHT
BEGIN:STANDARD
TZOFFSETFROM:+0200
TZOFFSETTO:+0100
TZNAME:CET
DTSTART:20261025T010000
END:STANDARD
END:VTIMEZONE
BEGIN:VEVENT
DTSTART;TZID=Europe/Berlin:20251009T190000
DTEND;TZID=Europe/Berlin:20251009T190000
DTSTAMP:20260422T201049
CREATED:20250701T062239Z
LAST-MODIFIED:20250701T062302Z
UID:12719-1760036400-1760036400@gesamtschule-quelle.de
SUMMARY:Schulkonferenz
DESCRIPTION:Bitte Einladung beachten.
URL:https://gesamtschule-quelle.de/veranstaltung/schulkonferenz-11/
END:VEVENT
BEGIN:VEVENT
DTSTART;TZID=Europe/Berlin:20251013T080000
DTEND;TZID=Europe/Berlin:20251024T170000
DTSTAMP:20260422T201049
CREATED:20250701T062842Z
LAST-MODIFIED:20250701T062842Z
UID:12734-1760342400-1761325200@gesamtschule-quelle.de
SUMMARY:Hebstferien
DESCRIPTION:
URL:https://gesamtschule-quelle.de/veranstaltung/hebstferien/
END:VEVENT
BEGIN:VEVENT
DTSTART;TZID=Europe/Berlin:20251027T080000
DTEND;TZID=Europe/Berlin:20251107T170000
DTSTAMP:20260422T201049
CREATED:20250701T062344Z
LAST-MODIFIED:20250701T062344Z
UID:12722-1761552000-1762534800@gesamtschule-quelle.de
SUMMARY:Praktikum JG 9
DESCRIPTION:
URL:https://gesamtschule-quelle.de/veranstaltung/praktikum-jg-9/
END:VEVENT
END:VCALENDAR