BEGIN:VCALENDAR
VERSION:2.0
PRODID:-//GesamtSchule Quelle - ECPv6.15.20//NONSGML v1.0//EN
CALSCALE:GREGORIAN
METHOD:PUBLISH
X-ORIGINAL-URL:https://gesamtschule-quelle.de
X-WR-CALDESC:Veranstaltungen für GesamtSchule Quelle
REFRESH-INTERVAL;VALUE=DURATION:PT1H
X-Robots-Tag:noindex
X-PUBLISHED-TTL:PT1H
BEGIN:VTIMEZONE
TZID:Europe/Berlin
BEGIN:DAYLIGHT
TZOFFSETFROM:+0100
TZOFFSETTO:+0200
TZNAME:CEST
DTSTART:20240331T010000
END:DAYLIGHT
BEGIN:STANDARD
TZOFFSETFROM:+0200
TZOFFSETTO:+0100
TZNAME:CET
DTSTART:20241027T010000
END:STANDARD
BEGIN:DAYLIGHT
TZOFFSETFROM:+0100
TZOFFSETTO:+0200
TZNAME:CEST
DTSTART:20250330T010000
END:DAYLIGHT
BEGIN:STANDARD
TZOFFSETFROM:+0200
TZOFFSETTO:+0100
TZNAME:CET
DTSTART:20251026T010000
END:STANDARD
BEGIN:DAYLIGHT
TZOFFSETFROM:+0100
TZOFFSETTO:+0200
TZNAME:CEST
DTSTART:20260329T010000
END:DAYLIGHT
BEGIN:STANDARD
TZOFFSETFROM:+0200
TZOFFSETTO:+0100
TZNAME:CET
DTSTART:20261025T010000
END:STANDARD
BEGIN:DAYLIGHT
TZOFFSETFROM:+0100
TZOFFSETTO:+0200
TZNAME:CEST
DTSTART:20270328T010000
END:DAYLIGHT
BEGIN:STANDARD
TZOFFSETFROM:+0200
TZOFFSETTO:+0100
TZNAME:CET
DTSTART:20271031T010000
END:STANDARD
END:VTIMEZONE
BEGIN:VEVENT
DTSTART;TZID=Europe/Berlin:20251220T080000
DTEND;TZID=Europe/Berlin:20260106T170000
DTSTAMP:20260422T151603
CREATED:20250701T062807Z
LAST-MODIFIED:20250701T062807Z
UID:12732-1766217600-1767718800@gesamtschule-quelle.de
SUMMARY:Weihnachtsferien
DESCRIPTION:
URL:https://gesamtschule-quelle.de/veranstaltung/weihnachtsferien-3/
END:VEVENT
BEGIN:VEVENT
DTSTART;TZID=Europe/Berlin:20260114T190000
DTEND;TZID=Europe/Berlin:20260114T190000
DTSTAMP:20260422T151603
CREATED:20260113T070529Z
LAST-MODIFIED:20260113T070529Z
UID:12924-1768417200-1768417200@gesamtschule-quelle.de
SUMMARY:Informationsabend Gymnasiale Oberstufe
DESCRIPTION:Informationsabend für alle an unserer gymnasialen Oberstufe interessierten Schülerinnen und Schüler eines 10. Jahrgangs in Bielefeld.
URL:https://gesamtschule-quelle.de/veranstaltung/informationsabend-gymnasiale-oberstufe/
END:VEVENT
END:VCALENDAR