BEGIN:VCALENDAR
VERSION:2.0
PRODID:-//GesamtSchule Quelle - ECPv6.15.20//NONSGML v1.0//EN
CALSCALE:GREGORIAN
METHOD:PUBLISH
X-WR-CALNAME:GesamtSchule Quelle
X-ORIGINAL-URL:https://gesamtschule-quelle.de
X-WR-CALDESC:Veranstaltungen für GesamtSchule Quelle
REFRESH-INTERVAL;VALUE=DURATION:PT1H
X-Robots-Tag:noindex
X-PUBLISHED-TTL:PT1H
BEGIN:VTIMEZONE
TZID:Europe/Berlin
BEGIN:DAYLIGHT
TZOFFSETFROM:+0100
TZOFFSETTO:+0200
TZNAME:CEST
DTSTART:20250330T010000
END:DAYLIGHT
BEGIN:STANDARD
TZOFFSETFROM:+0200
TZOFFSETTO:+0100
TZNAME:CET
DTSTART:20251026T010000
END:STANDARD
BEGIN:DAYLIGHT
TZOFFSETFROM:+0100
TZOFFSETTO:+0200
TZNAME:CEST
DTSTART:20260329T010000
END:DAYLIGHT
BEGIN:STANDARD
TZOFFSETFROM:+0200
TZOFFSETTO:+0100
TZNAME:CET
DTSTART:20261025T010000
END:STANDARD
BEGIN:DAYLIGHT
TZOFFSETFROM:+0100
TZOFFSETTO:+0200
TZNAME:CEST
DTSTART:20270328T010000
END:DAYLIGHT
BEGIN:STANDARD
TZOFFSETFROM:+0200
TZOFFSETTO:+0100
TZNAME:CET
DTSTART:20271031T010000
END:STANDARD
END:VTIMEZONE
BEGIN:VEVENT
DTSTART;TZID=Europe/Berlin:20260206T110000
DTEND;TZID=Europe/Berlin:20260206T110000
DTSTAMP:20260422T133107
CREATED:20250701T062950Z
LAST-MODIFIED:20250701T062950Z
UID:12736-1770375600-1770375600@gesamtschule-quelle.de
SUMMARY:Halbjahresinformationen
DESCRIPTION:Unterrichtsende um 10:45 Uhr
URL:https://gesamtschule-quelle.de/veranstaltung/halbjahresinformationen/
END:VEVENT
BEGIN:VEVENT
DTSTART;VALUE=DATE:20260209
DTEND;VALUE=DATE:20260210
DTSTAMP:20260422T133107
CREATED:20250701T063019Z
LAST-MODIFIED:20250701T063019Z
UID:12738-1770595200-1770681599@gesamtschule-quelle.de
SUMMARY:Beweglicher Ferientag
DESCRIPTION:
URL:https://gesamtschule-quelle.de/veranstaltung/beweglicher-ferientag-17/
END:VEVENT
BEGIN:VEVENT
DTSTART;VALUE=DATE:20260210
DTEND;VALUE=DATE:20260211
DTSTAMP:20260422T133107
CREATED:20250701T063057Z
LAST-MODIFIED:20250701T063057Z
UID:12740-1770681600-1770767999@gesamtschule-quelle.de
SUMMARY:Schulinterner Lehrerfortbildungstag
DESCRIPTION:Studientag für alle Schülerinnen und Schüler
URL:https://gesamtschule-quelle.de/veranstaltung/schulinterner-lehrerfortbildungstag-7/
END:VEVENT
BEGIN:VEVENT
DTSTART;TZID=Europe/Berlin:20260218T190000
DTEND;TZID=Europe/Berlin:20260218T190000
DTSTAMP:20260422T133107
CREATED:20250701T063246Z
LAST-MODIFIED:20250701T063246Z
UID:12742-1771441200-1771441200@gesamtschule-quelle.de
SUMMARY:Informationsabend JG 6
DESCRIPTION:Dieser Abend richtet sich an alle Eltern in JG6. Sie werden über die WP-Wahl und die Differenzierungskurse informiert.
URL:https://gesamtschule-quelle.de/veranstaltung/informationsabend-jg-6/
END:VEVENT
BEGIN:VEVENT
DTSTART;TZID=Europe/Berlin:20260224T190000
DTEND;TZID=Europe/Berlin:20260224T190000
DTSTAMP:20260422T133107
CREATED:20250701T063416Z
LAST-MODIFIED:20250701T063416Z
UID:12744-1771959600-1771959600@gesamtschule-quelle.de
SUMMARY:Informationsabend JG 8
DESCRIPTION:Dieser Abend richtet sich an alle Eltern in JG 8. Sie werden über die Berufsorientierungsangebote unserer Schule in den JG 8 bis 10 informiert.
URL:https://gesamtschule-quelle.de/veranstaltung/informationsabend-jg-8/
END:VEVENT
END:VCALENDAR