BEGIN:VCALENDAR
VERSION:2.0
PRODID:-//GesamtSchule Quelle - ECPv6.15.20//NONSGML v1.0//EN
CALSCALE:GREGORIAN
METHOD:PUBLISH
X-WR-CALNAME:GesamtSchule Quelle
X-ORIGINAL-URL:https://gesamtschule-quelle.de
X-WR-CALDESC:Veranstaltungen für GesamtSchule Quelle
REFRESH-INTERVAL;VALUE=DURATION:PT1H
X-Robots-Tag:noindex
X-PUBLISHED-TTL:PT1H
BEGIN:VTIMEZONE
TZID:Europe/Berlin
BEGIN:DAYLIGHT
TZOFFSETFROM:+0100
TZOFFSETTO:+0200
TZNAME:CEST
DTSTART:20250330T010000
END:DAYLIGHT
BEGIN:STANDARD
TZOFFSETFROM:+0200
TZOFFSETTO:+0100
TZNAME:CET
DTSTART:20251026T010000
END:STANDARD
BEGIN:DAYLIGHT
TZOFFSETFROM:+0100
TZOFFSETTO:+0200
TZNAME:CEST
DTSTART:20260329T010000
END:DAYLIGHT
BEGIN:STANDARD
TZOFFSETFROM:+0200
TZOFFSETTO:+0100
TZNAME:CET
DTSTART:20261025T010000
END:STANDARD
BEGIN:DAYLIGHT
TZOFFSETFROM:+0100
TZOFFSETTO:+0200
TZNAME:CEST
DTSTART:20270328T010000
END:DAYLIGHT
BEGIN:STANDARD
TZOFFSETFROM:+0200
TZOFFSETTO:+0100
TZNAME:CET
DTSTART:20271031T010000
END:STANDARD
END:VTIMEZONE
BEGIN:VEVENT
DTSTART;TZID=Europe/Berlin:20260304T180000
DTEND;TZID=Europe/Berlin:20260304T180000
DTSTAMP:20260422T120401
CREATED:20260223T125816Z
LAST-MODIFIED:20260223T125816Z
UID:12978-1772647200-1772647200@gesamtschule-quelle.de
SUMMARY:Surfen mit Sin(n) - digitaler Elternabend JG6
DESCRIPTION:Bitte beachten Sie die Einladung!
URL:https://gesamtschule-quelle.de/veranstaltung/surfen-mit-sinn-digitaler-elternabend-jg6/
END:VEVENT
BEGIN:VEVENT
DTSTART;TZID=Europe/Berlin:20260312T140000
DTEND;TZID=Europe/Berlin:20260312T160000
DTSTAMP:20260422T120401
CREATED:20260223T130037Z
LAST-MODIFIED:20260223T130037Z
UID:12980-1773324000-1773331200@gesamtschule-quelle.de
SUMMARY:Handwerkermarkt JG8
DESCRIPTION:Bitte beachten Sie die Hinweise\, die in den einzelnen Klassen verteilt wurden.
URL:https://gesamtschule-quelle.de/veranstaltung/handwerkermarkt-jg8-2/
END:VEVENT
BEGIN:VEVENT
DTSTART;TZID=Europe/Berlin:20260312T180000
DTEND;TZID=Europe/Berlin:20260312T180000
DTSTAMP:20260422T120401
CREATED:20260223T130204Z
LAST-MODIFIED:20260311T055527Z
UID:12982-1773338400-1773338400@gesamtschule-quelle.de
SUMMARY:Präsentationsabend Q2
DESCRIPTION:Der 13. Jahrgang stellt die Ergebnisse der einzelnen Projektkurse vor! \nHerzliche Einladung an alle Interessierten.
URL:https://gesamtschule-quelle.de/veranstaltung/praesentationsabend-q2/
ATTACH;FMTTYPE=image/png:https://gesamtschule-quelle.de/wp-content/uploads/2026/02/Projektkurs26.png
END:VEVENT
BEGIN:VEVENT
DTSTART;TZID=Europe/Berlin:20260330T080000
DTEND;TZID=Europe/Berlin:20260410T170000
DTSTAMP:20260422T120401
CREATED:20250701T063457Z
LAST-MODIFIED:20250701T063457Z
UID:12746-1774857600-1775840400@gesamtschule-quelle.de
SUMMARY:Osterferien
DESCRIPTION:
URL:https://gesamtschule-quelle.de/veranstaltung/osterferien-6/
END:VEVENT
END:VCALENDAR